BEGIN:VCALENDAR
VERSION:2.0
PRODID:-//King Arts Complex - ECPv6.15.20//NONSGML v1.0//EN
CALSCALE:GREGORIAN
METHOD:PUBLISH
X-ORIGINAL-URL:https://kingartscomplex.com
X-WR-CALDESC:Events for King Arts Complex
REFRESH-INTERVAL;VALUE=DURATION:PT1H
X-Robots-Tag:noindex
X-PUBLISHED-TTL:PT1H
BEGIN:VTIMEZONE
TZID:UTC
BEGIN:STANDARD
TZOFFSETFROM:+0000
TZOFFSETTO:+0000
TZNAME:UTC
DTSTART:20190101T000000
END:STANDARD
END:VTIMEZONE
BEGIN:VEVENT
DTSTART;TZID=UTC:20200516T180000
DTEND;TZID=UTC:20200516T190000
DTSTAMP:20260421T090648
CREATED:20200514T232157Z
LAST-MODIFIED:20200514T233644Z
UID:10000307-1589652000-1589655600@kingartscomplex.com
SUMMARY:Virtual Concert - 33rd Anniversary Gala
DESCRIPTION:The King Arts Complex presents their first virtual concert featuring The Quan Howell Project. Quan Howell is a national recording artist and native of Columbus\, Ohio. Tune in for fan favorites\, new renditions of classics\, and even a special\, spoken word performance from musical artist\, Tripp Fontane! \nAccess Link: youtu.be/4KG2lxyEx2s\nAlternate Link: kingartscomplex.com/programs/anniversary-gala\n(Video will only be available on or after May 16\, 2020 at 6 PM) \nThe performance was originally scheduled to take place on Saturday\, May 16th during the 33rd Anniversary Gala. Due to the COVID-19 global pandemic\, the Gala was cancelled… However\, the Gala is scheduled to return on Saturday\, May 15\, 2021 and The Quan Howell Project will be the featured act.
URL:https://kingartscomplex.com/event/virtual-concert-33rd-anniversary-gala/
LOCATION:The King Arts Complex\, 835 Mount Vernon Avenue\, Columbus\, OH\, 43203\, United States
ATTACH;FMTTYPE=image/png:https://kingartscomplex.com/wp-content/uploads/2020/05/Screen-Shot-2020-05-14-at-3.32.35-PM.png
ORGANIZER;CN="The King Arts Complex":MAILTO:info@kingartscomplex.com
END:VEVENT
BEGIN:VEVENT
DTSTART;TZID=UTC:20200507T110000
DTEND;TZID=UTC:20200507T173000
DTSTAMP:20260421T090648
CREATED:20200324T001956Z
LAST-MODIFIED:20200406T005327Z
UID:10000280-1588849200-1588872600@kingartscomplex.com
SUMMARY:Through Their Eyes - Guest Curator: Tommie Lee Gilliard - CANCELLED
DESCRIPTION:This exhibit is in honor of autism awareness month and is focused to celebrate creatives with “differabilities.’ Guest curator\, Tommie Lee will select work from artists that make art at the Open Door art studio and gallery. \nThis exhibit will be on display from April 16 to May 7\, 2020. \nFree Community Event \nPresented as part Autism Awareness Month
URL:https://kingartscomplex.com/event/through-their-eyes-opening-guest-curator-tommie-lee-gilliard-postponed-until-further-notice/2020-05-07/
LOCATION:The King Arts Complex\, 835 Mount Vernon Avenue\, Columbus\, OH\, 43203\, United States
CATEGORIES:Exhibits
ATTACH;FMTTYPE=image/jpeg:https://kingartscomplex.com/wp-content/uploads/2020/03/Tommi-Lee3_005-1-Copy.jpg
ORGANIZER;CN="The King Arts Complex":MAILTO:info@kingartscomplex.com
END:VEVENT
BEGIN:VEVENT
DTSTART;TZID=UTC:20200417T090000
DTEND;TZID=UTC:20200417T160000
DTSTAMP:20260421T090648
CREATED:20200324T001006Z
LAST-MODIFIED:20200407T231422Z
UID:10000264-1587114000-1587139200@kingartscomplex.com
SUMMARY:Going Green Spring Academy - CANCELLED
DESCRIPTION:Spring Academy runs throughout the Columbus City Schools spring recess\, April 13th through the 17th from 9 am-4 pm. This year’s theme is “Going Green.” \nSpring is the time for rebirth\, rejuvenation\, and renewal. We’ll serve youth\, ages 5-13 and plan to teach them about gardening and all its benefits. Tentative sessions will include planting and harvesting seeds\, healthy cooking\, science demos\, and the use of recyclable and organic materials to create unique art projects. They will also practice mindfulness\, yoga\, and engage in active dance lessons and more. \nTo register\, click the ticket link above or contact Candice Igeleke at Cigeleke@kingartscomplex.com or 614-645-0627.
URL:https://kingartscomplex.com/event/going-green-spring-academy-cancelled/2020-04-17/
LOCATION:The King Arts Complex\, 835 Mount Vernon Avenue\, Columbus\, OH\, 43203\, United States
CATEGORIES:Academy
ATTACH;FMTTYPE=image/jpeg:https://kingartscomplex.com/wp-content/uploads/2012/03/flower-summer-spring-nature-field-yellow-sunlight.jpg
ORGANIZER;CN="The King Arts Complex":MAILTO:info@kingartscomplex.com
END:VEVENT
BEGIN:VEVENT
DTSTART;TZID=UTC:20200416T180000
DTEND;TZID=UTC:20200416T200000
DTSTAMP:20260421T090648
CREATED:20200324T215604Z
LAST-MODIFIED:20200324T215612Z
UID:10000306-1587060000-1587067200@kingartscomplex.com
SUMMARY:Through Their Eyes Opening - Guest Curator: Tommie Lee Gilliard - POSTPONED until further notice
DESCRIPTION:This exhibit is in honor of autism awareness month and is focused to celebrate creatives with “differabilities.’ Guest curator\, Tommie Lee will select work from artists that make art at the Open Door art studio and gallery. \nThis exhibit will be on display from April 16 to May 7\, 2020. \nFree Community Event \nPresented as part Autism Awareness Month
URL:https://kingartscomplex.com/event/through-their-eyes-opening-guest-curator-tommie-lee-gilliard-postponed-until-further-notice-2/
LOCATION:The King Arts Complex\, 835 Mount Vernon Avenue\, Columbus\, OH\, 43203\, United States
CATEGORIES:Exhibits
ATTACH;FMTTYPE=image/jpeg:https://kingartscomplex.com/wp-content/uploads/2020/03/Tommi-Lee3_005-1-Copy.jpg
ORGANIZER;CN="The King Arts Complex":MAILTO:info@kingartscomplex.com
END:VEVENT
BEGIN:VEVENT
DTSTART;TZID=UTC:20200409T113000
DTEND;TZID=UTC:20200409T173000
DTSTAMP:20260421T090648
CREATED:20200324T185702Z
LAST-MODIFIED:20200406T005145Z
UID:10000305-1586431800-1586453400@kingartscomplex.com
SUMMARY:Kim Brazwell: Phoenix (Dream Corridor Exhibition) - CANCELLED
DESCRIPTION:The story of the phoenix describes a beautiful bird who is cyclically consumed by fire and then rises from its own ashes. An illustrative rendering of the journey through struggle\, failure\, change\, growth\, progression\, and healing\, Phoenix is a multimedia art collection loosely based on self-portraits by Kimberly Brazwell. The series will be receive its first-ever showing at The King Arts Complex in celebration of Women’s Herstory Month. The series explores the evolution and maturation of trauma\, healing and resilience. \nThe hours for the Dream Corridor are Tuesday through Friday from 8:30 AM – 5:30 PM.
URL:https://kingartscomplex.com/event/kim-brazwell-phoenix-dream-corridor-exhibition-2/2020-04-09/
LOCATION:The King Arts Complex\, 835 Mount Vernon Avenue\, Columbus\, OH\, 43203\, United States
CATEGORIES:Exhibits
ATTACH;FMTTYPE=image/jpeg:https://kingartscomplex.com/wp-content/uploads/2020/02/Kim-Brazwell-Phoenix.jpg
ORGANIZER;CN="The King Arts Complex":MAILTO:info@kingartscomplex.com
END:VEVENT
BEGIN:VEVENT
DTSTART;TZID=UTC:20200305T180000
DTEND;TZID=UTC:20200305T200000
DTSTAMP:20260421T090648
CREATED:20200323T234128Z
LAST-MODIFIED:20200323T234128Z
UID:10000244-1583431200-1583438400@kingartscomplex.com
SUMMARY:Kim Brazwell: Phoenix - Opening Reception
DESCRIPTION:The story of the phoenix describes a beautiful bird who is cyclically consumed by fire and then rises from its own ashes. An illustrative rendering of the journey through struggle\, failure\, change\, growth\, progression\, and healing\, Phoenix is a multimedia art collection loosely based on self-portraits by Kimberly Brazwell. The series will be receive its first-ever showing at The King Arts Complex in celebration of Women’s Herstory Month. The series explores the evolution and maturation of trauma\, healing and resilience.
URL:https://kingartscomplex.com/event/kim-brazwell-phoenix-opening-reception/
LOCATION:The King Arts Complex\, 835 Mount Vernon Avenue\, Columbus\, OH\, 43203\, United States
ATTACH;FMTTYPE=image/jpeg:https://kingartscomplex.com/wp-content/uploads/2020/02/Kim-Brazwell-Phoenix.jpg
ORGANIZER;CN="The King Arts Complex":MAILTO:info@kingartscomplex.com
END:VEVENT
END:VCALENDAR