BEGIN:VCALENDAR
VERSION:2.0
PRODID:-//King Arts Complex - ECPv6.15.20//NONSGML v1.0//EN
CALSCALE:GREGORIAN
METHOD:PUBLISH
X-WR-CALNAME:King Arts Complex
X-ORIGINAL-URL:https://kingartscomplex.com
X-WR-CALDESC:Events for King Arts Complex
REFRESH-INTERVAL;VALUE=DURATION:PT1H
X-Robots-Tag:noindex
X-PUBLISHED-TTL:PT1H
BEGIN:VTIMEZONE
TZID:America/Kentucky/Louisville
BEGIN:DAYLIGHT
TZOFFSETFROM:-0500
TZOFFSETTO:-0400
TZNAME:EDT
DTSTART:20240310T070000
END:DAYLIGHT
BEGIN:STANDARD
TZOFFSETFROM:-0400
TZOFFSETTO:-0500
TZNAME:EST
DTSTART:20241103T060000
END:STANDARD
BEGIN:DAYLIGHT
TZOFFSETFROM:-0500
TZOFFSETTO:-0400
TZNAME:EDT
DTSTART:20250309T070000
END:DAYLIGHT
BEGIN:STANDARD
TZOFFSETFROM:-0400
TZOFFSETTO:-0500
TZNAME:EST
DTSTART:20251102T060000
END:STANDARD
BEGIN:DAYLIGHT
TZOFFSETFROM:-0500
TZOFFSETTO:-0400
TZNAME:EDT
DTSTART:20260308T070000
END:DAYLIGHT
BEGIN:STANDARD
TZOFFSETFROM:-0400
TZOFFSETTO:-0500
TZNAME:EST
DTSTART:20261101T060000
END:STANDARD
END:VTIMEZONE
BEGIN:VEVENT
DTSTART;TZID=America/Kentucky/Louisville:20250304T120000
DTEND;TZID=America/Kentucky/Louisville:20250304T140000
DTSTAMP:20260420T053456
CREATED:20250227T202833Z
LAST-MODIFIED:20250227T202833Z
UID:10000968-1741089600-1741096800@kingartscomplex.com
SUMMARY:First Tuesday Tea
DESCRIPTION:First Tuesday Tea is an informal forum that allows seniors ages 55+ to engage in dialogue about art\, music\, literary interests\, as well as social and current issues. \nHealthy Eating and Nutrition \nCandice Schreiber is a registered dietitian and is board certified in oncology nutrition. Candice has been with James for 11 years where she has worked for James Care for Life\, a department that provides supportive care services for cancer survivors. She develops and facilitates nutrition classes for survivors.\nand caregivers\, including educational classes and cooking demonstrations. \nBronzeville CO OP\nUp to date news and questions-Michael Kelley. \nChair Exercise\nJoin Greg Pearson in fun loving chair exercise. \nMarch 4\, 2025\, Doors Open 11:30AM\nNoon-2PM\nMust RSVP-Limited Seating\nCall Juanita Burks 614-645-0674 for Reservation \nCome sip some tea and be…This event is free and open to the public.\nContact Linda Broadnax: lbroadnax@kingartscomplex.com  \nSponsored by: The Arthur G. James Cancer Hospital and Richard J. Solove Research Institute
URL:https://kingartscomplex.com/event/first-tuesday-tea-10/
LOCATION:The King Arts Complex\, 835 Mount Vernon Avenue\, Columbus\, OH\, 43203\, United States
ORGANIZER;CN="The King Arts Complex":MAILTO:info@kingartscomplex.com
END:VEVENT
END:VCALENDAR