BEGIN:VCALENDAR
VERSION:2.0
PRODID:-//King Arts Complex - ECPv6.15.20//NONSGML v1.0//EN
CALSCALE:GREGORIAN
METHOD:PUBLISH
X-WR-CALNAME:King Arts Complex
X-ORIGINAL-URL:https://kingartscomplex.com
X-WR-CALDESC:Events for King Arts Complex
REFRESH-INTERVAL;VALUE=DURATION:PT1H
X-Robots-Tag:noindex
X-PUBLISHED-TTL:PT1H
BEGIN:VTIMEZONE
TZID:America/Kentucky/Louisville
BEGIN:DAYLIGHT
TZOFFSETFROM:-0500
TZOFFSETTO:-0400
TZNAME:EDT
DTSTART:20230312T070000
END:DAYLIGHT
BEGIN:STANDARD
TZOFFSETFROM:-0400
TZOFFSETTO:-0500
TZNAME:EST
DTSTART:20231105T060000
END:STANDARD
BEGIN:DAYLIGHT
TZOFFSETFROM:-0500
TZOFFSETTO:-0400
TZNAME:EDT
DTSTART:20240310T070000
END:DAYLIGHT
BEGIN:STANDARD
TZOFFSETFROM:-0400
TZOFFSETTO:-0500
TZNAME:EST
DTSTART:20241103T060000
END:STANDARD
BEGIN:DAYLIGHT
TZOFFSETFROM:-0500
TZOFFSETTO:-0400
TZNAME:EDT
DTSTART:20250309T070000
END:DAYLIGHT
BEGIN:STANDARD
TZOFFSETFROM:-0400
TZOFFSETTO:-0500
TZNAME:EST
DTSTART:20251102T060000
END:STANDARD
END:VTIMEZONE
BEGIN:VEVENT
DTSTART;TZID=America/Kentucky/Louisville:20240907T140000
DTEND;TZID=America/Kentucky/Louisville:20240907T150000
DTSTAMP:20260421T205544
CREATED:20240823T163858Z
LAST-MODIFIED:20240923T134253Z
UID:10000773-1725717600-1725721200@kingartscomplex.com
SUMMARY:Soar on Saturdays - Hip Hop
DESCRIPTION:Soar on Saturdays is a dance access program that provides young students the opportunity to explore movement over the course of a free six-week dance class. Classes meet once a week. At the end of the session\, students share what they have learned with parents\, friends\, and family at an in-studio demonstration. Class size is limited. Registration is first-come\, first served. Students on the waitlist will be contacted if space becomes available. A Release & Authorization Form must be completed by a Parent/Guardian before the first class. \nWho can participate in Soar on Saturdays? Children ages 8-12 who are not already enrolled at BalletMet. No previous dance training is necessary.
URL:https://kingartscomplex.com/event/soar-on-saturdays-hip-hop-2/2024-09-07/
LOCATION:The King Arts Complex\, 835 Mount Vernon Avenue\, Columbus\, OH\, 43203\, United States
ORGANIZER;CN="BalletMet":MAILTO:education@balletmet.org
END:VEVENT
BEGIN:VEVENT
DTSTART;TZID=America/Kentucky/Louisville:20240907T140000
DTEND;TZID=America/Kentucky/Louisville:20240907T160000
DTSTAMP:20260421T205544
CREATED:20240821T150231Z
LAST-MODIFIED:20240821T150231Z
UID:10000771-1725717600-1725724800@kingartscomplex.com
SUMMARY:First Tuesday Tea presents Akron's Real Deal
DESCRIPTION:First Tuesday Tea presents Akron’s Real Deal for a special performance on Saturday\, September 7th at the King Arts Complex. Sophistication\, style & class are just a few of the attributes that accompany the talent & unbelievable vocal abilities of Akron’s ReaL DeaL old-school R&B singing group. \nThe group members are Cornelius Parson\, Alex Andrus\, Vernon Palmer\, and Garnett Jones. Each member has a history of singing gospel and R&B in the local and surrounding areas going back to junior high school. \nThe current members of Akron’s Real Deal formed in 2017. They perform songs from The Temptations\, The Delphonics\, Earth\, Wind & Fire\, Lakeside\, Bobby Womack\, and a wide range of familiar old-school R&B hits.
URL:https://kingartscomplex.com/event/first-tuesday-tea-presents-akrons-real-deal/
LOCATION:The King Arts Complex\, 835 Mount Vernon Avenue\, Columbus\, OH\, 43203\, United States
ORGANIZER;CN="The King Arts Complex":MAILTO:info@kingartscomplex.com
END:VEVENT
BEGIN:VEVENT
DTSTART;TZID=America/Kentucky/Louisville:20240914T140000
DTEND;TZID=America/Kentucky/Louisville:20240914T150000
DTSTAMP:20260421T205544
CREATED:20240823T163858Z
LAST-MODIFIED:20240923T134253Z
UID:10000774-1726322400-1726326000@kingartscomplex.com
SUMMARY:Soar on Saturdays - Hip Hop
DESCRIPTION:Soar on Saturdays is a dance access program that provides young students the opportunity to explore movement over the course of a free six-week dance class. Classes meet once a week. At the end of the session\, students share what they have learned with parents\, friends\, and family at an in-studio demonstration. Class size is limited. Registration is first-come\, first served. Students on the waitlist will be contacted if space becomes available. A Release & Authorization Form must be completed by a Parent/Guardian before the first class. \nWho can participate in Soar on Saturdays? Children ages 8-12 who are not already enrolled at BalletMet. No previous dance training is necessary.
URL:https://kingartscomplex.com/event/soar-on-saturdays-hip-hop-2/2024-09-14/
LOCATION:The King Arts Complex\, 835 Mount Vernon Avenue\, Columbus\, OH\, 43203\, United States
ORGANIZER;CN="BalletMet":MAILTO:education@balletmet.org
END:VEVENT
BEGIN:VEVENT
DTSTART;TZID=America/Kentucky/Louisville:20240918T100000
DTEND;TZID=America/Kentucky/Louisville:20240918T150000
DTSTAMP:20260421T205544
CREATED:20240823T163609Z
LAST-MODIFIED:20240823T163609Z
UID:10000772-1726653600-1726671600@kingartscomplex.com
SUMMARY:Long Street Bridge & Cultural Wall - 10th Anniversary Celebration
DESCRIPTION:On July 10\, 2014\, the newly reconstructed Long Street bridge was unveiled as part of the Ohio Department of Transportation’s I 70/71 Columbus Crossroads Project. This complete street design created a unique opportunity to connect the historic King-Lincoln District and the Near East side to downtown Columbus. \nJoin us on Wednesday\, September 18th as we commemorate a decade of the revitalized Long St. Bridge and inception of the Cultural Wall. This milestone will be honored with guest speakers\, live music\, local visual artists\, food trucks\, community resources and more.
URL:https://kingartscomplex.com/event/long-street-bridge-cultural-wall-10th-anniversary-celebration/
LOCATION:Long Street  Bridge & Cultural Wall\, 1467 E Long Street\, Columbus\, OH\, 43203\, United States
END:VEVENT
BEGIN:VEVENT
DTSTART;TZID=America/Kentucky/Louisville:20240921T140000
DTEND;TZID=America/Kentucky/Louisville:20240921T150000
DTSTAMP:20260421T205544
CREATED:20240823T163858Z
LAST-MODIFIED:20240923T134253Z
UID:10000775-1726927200-1726930800@kingartscomplex.com
SUMMARY:Soar on Saturdays - Hip Hop
DESCRIPTION:Soar on Saturdays is a dance access program that provides young students the opportunity to explore movement over the course of a free six-week dance class. Classes meet once a week. At the end of the session\, students share what they have learned with parents\, friends\, and family at an in-studio demonstration. Class size is limited. Registration is first-come\, first served. Students on the waitlist will be contacted if space becomes available. A Release & Authorization Form must be completed by a Parent/Guardian before the first class. \nWho can participate in Soar on Saturdays? Children ages 8-12 who are not already enrolled at BalletMet. No previous dance training is necessary.
URL:https://kingartscomplex.com/event/soar-on-saturdays-hip-hop-2/2024-09-21/
LOCATION:The King Arts Complex\, 835 Mount Vernon Avenue\, Columbus\, OH\, 43203\, United States
ORGANIZER;CN="BalletMet":MAILTO:education@balletmet.org
END:VEVENT
BEGIN:VEVENT
DTSTART;TZID=America/Kentucky/Louisville:20240927T193000
DTEND;TZID=America/Kentucky/Louisville:20240927T220000
DTSTAMP:20260421T205544
CREATED:20240923T140423Z
LAST-MODIFIED:20240923T140423Z
UID:10000832-1727465400-1727474400@kingartscomplex.com
SUMMARY:An Evening with The Ruth Moody Band
DESCRIPTION:Otherworldly voice and inspired songwriting. \nRuth Moody is an award-winning singer-songwriter and multi-instrumentalist (guitar\, banjo\, accordion\, piano\, and bodhrán) hailing from Winnipeg\, Manitoba. Her otherworldly soprano voice and her inspired songwriting have gained the admiration of millions of listeners. As a solo artist and a founding and current member of The Wailin’ Jennys\, she has won two JUNO Awards and performed to rapt audiences in sold-out venues around the globe. Ruth’s solo albums The Garden and These Wilder Things received glowing receptions from fans and critics alike. She collaborated with the legendary Mark Knopfler on These Wilder Things and his albums Privateering and Tracker brought her voice to music lovers across the world. Her new album\, Wanderer\, is the chronicle of her life’s journey over the last ten years. Her songs are timeless\, universal\, and exceptionally well-crafted\, all sung with an intimacy and honesty that is unmistakably hers.
URL:https://kingartscomplex.com/event/an-evening-with-the-ruth-moody-band/
LOCATION:The King Arts Complex\, 835 Mount Vernon Avenue\, Columbus\, OH\, 43203\, United States
ORGANIZER;CN="The King Arts Complex":MAILTO:info@kingartscomplex.com
END:VEVENT
BEGIN:VEVENT
DTSTART;TZID=America/Kentucky/Louisville:20240928T120000
DTEND;TZID=America/Kentucky/Louisville:20240928T180000
DTSTAMP:20260421T205544
CREATED:20240923T205834Z
LAST-MODIFIED:20240923T210450Z
UID:10000834-1727524800-1727546400@kingartscomplex.com
SUMMARY:Culture - Black Fine Arts Expo
DESCRIPTION:The Culture Black Fine Art Expo\, introduced by KBK Foundation\, aims to highlight the value of Black Fine Art as both a representation of Black culture and a valuable investment. The event will feature a selection of reputable galleries and Black Fine Art dealers from Columbus and across the country\, chosen by KBK Foundation to participate in the expo. \nWith a mission to support Economic Development\, Community Development\, Social Services\, and the Arts in the communities that we serve\, KBK Foundation is committed to “bridging today’s realities with tomorrow’s possibilities”. \nWe are excited to announce Talle Bamazi as the 2024 Culture Black Fine Art Expo featured artist! ✨ \nA celebrated Columbus-based artist\, Talle uses his canvas as a site for activism\, weaving powerful narratives inspired by his deep passion for African culture. \nA key symbol in Talle’s work is the calabash—an African emblem of sustenance\, hospitality\, and fertility. Revered for its cultural significance\, the calabash transcends its role as a food source\, representing nourishment and reliability. It is a versatile vessel\, symbolizing the connection between culture and purpose. \nWe’re excited to present an exclusive first look at this year’s signature art piece and theme\, “A Change is Gonna Come” by Talle Bamazi. This captivating painting features Talle’s iconic calabash alongside a butterfly\, symbolizing transformation and growth—representing our collective potential to become better individuals and create a better world. Inspired by the legendary Sam Cooke\, whose music echoed themes of hope and change\, this piece beautifully intertwines cultural symbolism with the powerful message that a change is gonna come. \nJoin us in celebrating this extraordinary art and vision!
URL:https://kingartscomplex.com/event/culture-black-fine-arts-expo/2024-09-28/
LOCATION:Black Fine Art Expo\, 345 East 5th Avenue\, Columbus\, OH\, 43201\, United States
END:VEVENT
BEGIN:VEVENT
DTSTART;TZID=America/Kentucky/Louisville:20240928T140000
DTEND;TZID=America/Kentucky/Louisville:20240928T150000
DTSTAMP:20260421T205544
CREATED:20240823T163858Z
LAST-MODIFIED:20240923T134253Z
UID:10000776-1727532000-1727535600@kingartscomplex.com
SUMMARY:Soar on Saturdays - Hip Hop
DESCRIPTION:Soar on Saturdays is a dance access program that provides young students the opportunity to explore movement over the course of a free six-week dance class. Classes meet once a week. At the end of the session\, students share what they have learned with parents\, friends\, and family at an in-studio demonstration. Class size is limited. Registration is first-come\, first served. Students on the waitlist will be contacted if space becomes available. A Release & Authorization Form must be completed by a Parent/Guardian before the first class. \nWho can participate in Soar on Saturdays? Children ages 8-12 who are not already enrolled at BalletMet. No previous dance training is necessary.
URL:https://kingartscomplex.com/event/soar-on-saturdays-hip-hop-2/2024-09-28/
LOCATION:The King Arts Complex\, 835 Mount Vernon Avenue\, Columbus\, OH\, 43203\, United States
ORGANIZER;CN="BalletMet":MAILTO:education@balletmet.org
END:VEVENT
BEGIN:VEVENT
DTSTART;TZID=America/Kentucky/Louisville:20240929T120000
DTEND;TZID=America/Kentucky/Louisville:20240929T180000
DTSTAMP:20260421T205544
CREATED:20240923T205834Z
LAST-MODIFIED:20240923T210450Z
UID:10000836-1727611200-1727632800@kingartscomplex.com
SUMMARY:Culture - Black Fine Arts Expo
DESCRIPTION:The Culture Black Fine Art Expo\, introduced by KBK Foundation\, aims to highlight the value of Black Fine Art as both a representation of Black culture and a valuable investment. The event will feature a selection of reputable galleries and Black Fine Art dealers from Columbus and across the country\, chosen by KBK Foundation to participate in the expo. \nWith a mission to support Economic Development\, Community Development\, Social Services\, and the Arts in the communities that we serve\, KBK Foundation is committed to “bridging today’s realities with tomorrow’s possibilities”. \nWe are excited to announce Talle Bamazi as the 2024 Culture Black Fine Art Expo featured artist! ✨ \nA celebrated Columbus-based artist\, Talle uses his canvas as a site for activism\, weaving powerful narratives inspired by his deep passion for African culture. \nA key symbol in Talle’s work is the calabash—an African emblem of sustenance\, hospitality\, and fertility. Revered for its cultural significance\, the calabash transcends its role as a food source\, representing nourishment and reliability. It is a versatile vessel\, symbolizing the connection between culture and purpose. \nWe’re excited to present an exclusive first look at this year’s signature art piece and theme\, “A Change is Gonna Come” by Talle Bamazi. This captivating painting features Talle’s iconic calabash alongside a butterfly\, symbolizing transformation and growth—representing our collective potential to become better individuals and create a better world. Inspired by the legendary Sam Cooke\, whose music echoed themes of hope and change\, this piece beautifully intertwines cultural symbolism with the powerful message that a change is gonna come. \nJoin us in celebrating this extraordinary art and vision!
URL:https://kingartscomplex.com/event/culture-black-fine-arts-expo/2024-09-29/
LOCATION:Black Fine Art Expo\, 345 East 5th Avenue\, Columbus\, OH\, 43201\, United States
END:VEVENT
END:VCALENDAR