BEGIN:VCALENDAR
VERSION:2.0
PRODID:-//King Arts Complex - ECPv6.15.20//NONSGML v1.0//EN
CALSCALE:GREGORIAN
METHOD:PUBLISH
X-WR-CALNAME:King Arts Complex
X-ORIGINAL-URL:https://kingartscomplex.com
X-WR-CALDESC:Events for King Arts Complex
REFRESH-INTERVAL;VALUE=DURATION:PT1H
X-Robots-Tag:noindex
X-PUBLISHED-TTL:PT1H
BEGIN:VTIMEZONE
TZID:America/Kentucky/Louisville
BEGIN:DAYLIGHT
TZOFFSETFROM:-0500
TZOFFSETTO:-0400
TZNAME:EDT
DTSTART:20230312T070000
END:DAYLIGHT
BEGIN:STANDARD
TZOFFSETFROM:-0400
TZOFFSETTO:-0500
TZNAME:EST
DTSTART:20231105T060000
END:STANDARD
BEGIN:DAYLIGHT
TZOFFSETFROM:-0500
TZOFFSETTO:-0400
TZNAME:EDT
DTSTART:20240310T070000
END:DAYLIGHT
BEGIN:STANDARD
TZOFFSETFROM:-0400
TZOFFSETTO:-0500
TZNAME:EST
DTSTART:20241103T060000
END:STANDARD
BEGIN:DAYLIGHT
TZOFFSETFROM:-0500
TZOFFSETTO:-0400
TZNAME:EDT
DTSTART:20250309T070000
END:DAYLIGHT
BEGIN:STANDARD
TZOFFSETFROM:-0400
TZOFFSETTO:-0500
TZNAME:EST
DTSTART:20251102T060000
END:STANDARD
END:VTIMEZONE
BEGIN:VEVENT
DTSTART;TZID=America/Kentucky/Louisville:20240801T090000
DTEND;TZID=America/Kentucky/Louisville:20240801T150000
DTSTAMP:20260421T205444
CREATED:20240528T211511Z
LAST-MODIFIED:20240612T145813Z
UID:10000762-1722502800-1722524400@kingartscomplex.com
SUMMARY:Summer Arts Academy 2024
DESCRIPTION:Summer Camp\nJune 10 – August 2\, 2024 (M-F) | 9 AM – 4 PM\nAges 5 – 13 (Kindergarten through 8th grade)\nProgramming: $125 each week per student\nRegistration Fee: $25 per student \n*Child must be 5 years old by Friday\, May 31st to enroll. \nRegistration and Payments can be completed at the King Arts Complex.  Please contact Briana Robinson\, Education Arts Administrator/Camp Director\, at brobinson@kingartscomplex.com or (614) 645-0627 with any questions or concerns.   \nSummer Arts Camp is an 8-week\, all day program. Summer Academy runs throughout the Columbus City Schools summer recess. \nThe camp will run on a STEAM module (science\, technology\, engineering\, arts\, and math) and will include: \n• Dance\n• Music\n• Coding\n• Visual Arts\n• Creative Writing\n• Photography
URL:https://kingartscomplex.com/event/summer-arts-academy-2024/2024-08-01/
LOCATION:The King Arts Complex\, 835 Mount Vernon Avenue\, Columbus\, OH\, 43203\, United States
CATEGORIES:Education
ORGANIZER;CN="The King Arts Complex":MAILTO:info@kingartscomplex.com
END:VEVENT
BEGIN:VEVENT
DTSTART;TZID=America/Kentucky/Louisville:20240801T173000
DTEND;TZID=America/Kentucky/Louisville:20240801T203000
DTSTAMP:20260421T205444
CREATED:20240612T154144Z
LAST-MODIFIED:20240613T184327Z
UID:10000769-1722533400-1722544200@kingartscomplex.com
SUMMARY:26th Annual Heritage Music Festival
DESCRIPTION:26th Annual Heritage Music Festival\nThursdays\, July 11\, 18\, & 25\, 2024 – 6 PM to 9 PM\nThursdays\, August 1 & 8\, 2024 – 5:30 PM to 8:30 PM \nWeather Contingency Date: Thursday\, August 15\, 2024 – 5:30 PM to 8:30 PM \nMayme Moore Park\nFree Community Event \nJoin the King Arts Complex for the annual Heritage Music Festival. Once known as the “Cradle of Jazz\,” the Mount Vernon of the King Lincoln District is the place to be every Thursday in July and August. Performances from local\, regional\, and national musical artists will keep it hot with Jazz\, Classical R&B\, inspirational\, and Blues! A Food Court and reserved tables on the Patio will be available. \nThe King Arts Complex’s Heritage Music Festival has been a signature Columbus community celebration for nearly two decades\, consistently attracting crowds of nearly 5\,000 attendees each week! Our annual festival is a family event enjoyed by men\, women\, and children of all backgrounds. Bring a blanket\, or lawn chair\, and relax in the beautiful Mayme Moore Park!
URL:https://kingartscomplex.com/event/26th-annual-heritage-music-festival/2024-08-01/
LOCATION:The King Arts Complex\, 835 Mount Vernon Avenue\, Columbus\, OH\, 43203\, United States
CATEGORIES:Music
ORGANIZER;CN="The King Arts Complex":MAILTO:info@kingartscomplex.com
END:VEVENT
BEGIN:VEVENT
DTSTART;TZID=America/Kentucky/Louisville:20240802T090000
DTEND;TZID=America/Kentucky/Louisville:20240802T150000
DTSTAMP:20260421T205444
CREATED:20240528T211511Z
LAST-MODIFIED:20240612T145813Z
UID:10000763-1722589200-1722610800@kingartscomplex.com
SUMMARY:Summer Arts Academy 2024
DESCRIPTION:Summer Camp\nJune 10 – August 2\, 2024 (M-F) | 9 AM – 4 PM\nAges 5 – 13 (Kindergarten through 8th grade)\nProgramming: $125 each week per student\nRegistration Fee: $25 per student \n*Child must be 5 years old by Friday\, May 31st to enroll. \nRegistration and Payments can be completed at the King Arts Complex.  Please contact Briana Robinson\, Education Arts Administrator/Camp Director\, at brobinson@kingartscomplex.com or (614) 645-0627 with any questions or concerns.   \nSummer Arts Camp is an 8-week\, all day program. Summer Academy runs throughout the Columbus City Schools summer recess. \nThe camp will run on a STEAM module (science\, technology\, engineering\, arts\, and math) and will include: \n• Dance\n• Music\n• Coding\n• Visual Arts\n• Creative Writing\n• Photography
URL:https://kingartscomplex.com/event/summer-arts-academy-2024/2024-08-02/
LOCATION:The King Arts Complex\, 835 Mount Vernon Avenue\, Columbus\, OH\, 43203\, United States
CATEGORIES:Education
ORGANIZER;CN="The King Arts Complex":MAILTO:info@kingartscomplex.com
END:VEVENT
BEGIN:VEVENT
DTSTART;TZID=America/Kentucky/Louisville:20240808T173000
DTEND;TZID=America/Kentucky/Louisville:20240808T203000
DTSTAMP:20260421T205444
CREATED:20240612T154144Z
LAST-MODIFIED:20240613T184327Z
UID:10000770-1723138200-1723149000@kingartscomplex.com
SUMMARY:26th Annual Heritage Music Festival
DESCRIPTION:26th Annual Heritage Music Festival\nThursdays\, July 11\, 18\, & 25\, 2024 – 6 PM to 9 PM\nThursdays\, August 1 & 8\, 2024 – 5:30 PM to 8:30 PM \nWeather Contingency Date: Thursday\, August 15\, 2024 – 5:30 PM to 8:30 PM \nMayme Moore Park\nFree Community Event \nJoin the King Arts Complex for the annual Heritage Music Festival. Once known as the “Cradle of Jazz\,” the Mount Vernon of the King Lincoln District is the place to be every Thursday in July and August. Performances from local\, regional\, and national musical artists will keep it hot with Jazz\, Classical R&B\, inspirational\, and Blues! A Food Court and reserved tables on the Patio will be available. \nThe King Arts Complex’s Heritage Music Festival has been a signature Columbus community celebration for nearly two decades\, consistently attracting crowds of nearly 5\,000 attendees each week! Our annual festival is a family event enjoyed by men\, women\, and children of all backgrounds. Bring a blanket\, or lawn chair\, and relax in the beautiful Mayme Moore Park!
URL:https://kingartscomplex.com/event/26th-annual-heritage-music-festival/2024-08-08/
LOCATION:The King Arts Complex\, 835 Mount Vernon Avenue\, Columbus\, OH\, 43203\, United States
CATEGORIES:Music
ORGANIZER;CN="The King Arts Complex":MAILTO:info@kingartscomplex.com
END:VEVENT
END:VCALENDAR