BEGIN:VCALENDAR
VERSION:2.0
PRODID:-//King Arts Complex - ECPv6.15.20//NONSGML v1.0//EN
CALSCALE:GREGORIAN
METHOD:PUBLISH
X-WR-CALNAME:King Arts Complex
X-ORIGINAL-URL:https://kingartscomplex.com
X-WR-CALDESC:Events for King Arts Complex
REFRESH-INTERVAL;VALUE=DURATION:PT1H
X-Robots-Tag:noindex
X-PUBLISHED-TTL:PT1H
BEGIN:VTIMEZONE
TZID:America/Kentucky/Louisville
BEGIN:DAYLIGHT
TZOFFSETFROM:-0500
TZOFFSETTO:-0400
TZNAME:EDT
DTSTART:20230312T070000
END:DAYLIGHT
BEGIN:STANDARD
TZOFFSETFROM:-0400
TZOFFSETTO:-0500
TZNAME:EST
DTSTART:20231105T060000
END:STANDARD
BEGIN:DAYLIGHT
TZOFFSETFROM:-0500
TZOFFSETTO:-0400
TZNAME:EDT
DTSTART:20240310T070000
END:DAYLIGHT
BEGIN:STANDARD
TZOFFSETFROM:-0400
TZOFFSETTO:-0500
TZNAME:EST
DTSTART:20241103T060000
END:STANDARD
BEGIN:DAYLIGHT
TZOFFSETFROM:-0500
TZOFFSETTO:-0400
TZNAME:EDT
DTSTART:20250309T070000
END:DAYLIGHT
BEGIN:STANDARD
TZOFFSETFROM:-0400
TZOFFSETTO:-0500
TZNAME:EST
DTSTART:20251102T060000
END:STANDARD
END:VTIMEZONE
BEGIN:VEVENT
DTSTART;TZID=America/Kentucky/Louisville:20240501T133000
DTEND;TZID=America/Kentucky/Louisville:20240501T170000
DTSTAMP:20260421T103037
CREATED:20240319T165310Z
LAST-MODIFIED:20240612T150025Z
UID:10000692-1714570200-1714582800@kingartscomplex.com
SUMMARY:Art Through Her Eyes "Masterpiece" Curated by: Tommi Lee
DESCRIPTION:Tommi Lee Gillard was born in Euclid\, Ohio in 1993. She was diagnosed with autism at age 4. She is an aspiring model\, artist\, and a change agent with a book & an animated series in the works. \nEvery April is World Autism Month\, beginning with the United Nations-sanctioned World Autism Awareness Day on April 2. Throughout the month\, the focus is on sharing stories and providing opportunities to increase understanding and acceptance of people with autism and fostering worldwide support.  \nON VIEW\nSaturday\, April 20\, 2024 – Saturday\, June 22\, 2024  \nHOURS\nTuesdays – Fridays\, 1 PM – 5 PM\nTours available by appointment
URL:https://kingartscomplex.com/event/art-through-her-eyes-masterpiece-curated-by-tommi-lee/2024-05-01/
LOCATION:The King Arts Complex\, 835 Mount Vernon Avenue\, Columbus\, OH\, 43203\, United States
CATEGORIES:Visual Art
ORGANIZER;CN="The King Arts Complex":MAILTO:info@kingartscomplex.com
END:VEVENT
BEGIN:VEVENT
DTSTART;TZID=America/Kentucky/Louisville:20240502T133000
DTEND;TZID=America/Kentucky/Louisville:20240502T170000
DTSTAMP:20260421T103037
CREATED:20240319T165310Z
LAST-MODIFIED:20240612T150025Z
UID:10000693-1714656600-1714669200@kingartscomplex.com
SUMMARY:Art Through Her Eyes "Masterpiece" Curated by: Tommi Lee
DESCRIPTION:Tommi Lee Gillard was born in Euclid\, Ohio in 1993. She was diagnosed with autism at age 4. She is an aspiring model\, artist\, and a change agent with a book & an animated series in the works. \nEvery April is World Autism Month\, beginning with the United Nations-sanctioned World Autism Awareness Day on April 2. Throughout the month\, the focus is on sharing stories and providing opportunities to increase understanding and acceptance of people with autism and fostering worldwide support.  \nON VIEW\nSaturday\, April 20\, 2024 – Saturday\, June 22\, 2024  \nHOURS\nTuesdays – Fridays\, 1 PM – 5 PM\nTours available by appointment
URL:https://kingartscomplex.com/event/art-through-her-eyes-masterpiece-curated-by-tommi-lee/2024-05-02/
LOCATION:The King Arts Complex\, 835 Mount Vernon Avenue\, Columbus\, OH\, 43203\, United States
CATEGORIES:Visual Art
ORGANIZER;CN="The King Arts Complex":MAILTO:info@kingartscomplex.com
END:VEVENT
BEGIN:VEVENT
DTSTART;TZID=America/Kentucky/Louisville:20240503T133000
DTEND;TZID=America/Kentucky/Louisville:20240503T170000
DTSTAMP:20260421T103037
CREATED:20240319T165310Z
LAST-MODIFIED:20240612T150025Z
UID:10000694-1714743000-1714755600@kingartscomplex.com
SUMMARY:Art Through Her Eyes "Masterpiece" Curated by: Tommi Lee
DESCRIPTION:Tommi Lee Gillard was born in Euclid\, Ohio in 1993. She was diagnosed with autism at age 4. She is an aspiring model\, artist\, and a change agent with a book & an animated series in the works. \nEvery April is World Autism Month\, beginning with the United Nations-sanctioned World Autism Awareness Day on April 2. Throughout the month\, the focus is on sharing stories and providing opportunities to increase understanding and acceptance of people with autism and fostering worldwide support.  \nON VIEW\nSaturday\, April 20\, 2024 – Saturday\, June 22\, 2024  \nHOURS\nTuesdays – Fridays\, 1 PM – 5 PM\nTours available by appointment
URL:https://kingartscomplex.com/event/art-through-her-eyes-masterpiece-curated-by-tommi-lee/2024-05-03/
LOCATION:The King Arts Complex\, 835 Mount Vernon Avenue\, Columbus\, OH\, 43203\, United States
CATEGORIES:Visual Art
ORGANIZER;CN="The King Arts Complex":MAILTO:info@kingartscomplex.com
END:VEVENT
BEGIN:VEVENT
DTSTART;TZID=America/Kentucky/Louisville:20240507T133000
DTEND;TZID=America/Kentucky/Louisville:20240507T170000
DTSTAMP:20260421T103037
CREATED:20240319T165310Z
LAST-MODIFIED:20240612T150025Z
UID:10000695-1715088600-1715101200@kingartscomplex.com
SUMMARY:Art Through Her Eyes "Masterpiece" Curated by: Tommi Lee
DESCRIPTION:Tommi Lee Gillard was born in Euclid\, Ohio in 1993. She was diagnosed with autism at age 4. She is an aspiring model\, artist\, and a change agent with a book & an animated series in the works. \nEvery April is World Autism Month\, beginning with the United Nations-sanctioned World Autism Awareness Day on April 2. Throughout the month\, the focus is on sharing stories and providing opportunities to increase understanding and acceptance of people with autism and fostering worldwide support.  \nON VIEW\nSaturday\, April 20\, 2024 – Saturday\, June 22\, 2024  \nHOURS\nTuesdays – Fridays\, 1 PM – 5 PM\nTours available by appointment
URL:https://kingartscomplex.com/event/art-through-her-eyes-masterpiece-curated-by-tommi-lee/2024-05-07/
LOCATION:The King Arts Complex\, 835 Mount Vernon Avenue\, Columbus\, OH\, 43203\, United States
CATEGORIES:Visual Art
ORGANIZER;CN="The King Arts Complex":MAILTO:info@kingartscomplex.com
END:VEVENT
BEGIN:VEVENT
DTSTART;TZID=America/Kentucky/Louisville:20240508T133000
DTEND;TZID=America/Kentucky/Louisville:20240508T170000
DTSTAMP:20260421T103037
CREATED:20240319T165310Z
LAST-MODIFIED:20240612T150025Z
UID:10000696-1715175000-1715187600@kingartscomplex.com
SUMMARY:Art Through Her Eyes "Masterpiece" Curated by: Tommi Lee
DESCRIPTION:Tommi Lee Gillard was born in Euclid\, Ohio in 1993. She was diagnosed with autism at age 4. She is an aspiring model\, artist\, and a change agent with a book & an animated series in the works. \nEvery April is World Autism Month\, beginning with the United Nations-sanctioned World Autism Awareness Day on April 2. Throughout the month\, the focus is on sharing stories and providing opportunities to increase understanding and acceptance of people with autism and fostering worldwide support.  \nON VIEW\nSaturday\, April 20\, 2024 – Saturday\, June 22\, 2024  \nHOURS\nTuesdays – Fridays\, 1 PM – 5 PM\nTours available by appointment
URL:https://kingartscomplex.com/event/art-through-her-eyes-masterpiece-curated-by-tommi-lee/2024-05-08/
LOCATION:The King Arts Complex\, 835 Mount Vernon Avenue\, Columbus\, OH\, 43203\, United States
CATEGORIES:Visual Art
ORGANIZER;CN="The King Arts Complex":MAILTO:info@kingartscomplex.com
END:VEVENT
BEGIN:VEVENT
DTSTART;TZID=America/Kentucky/Louisville:20240509T133000
DTEND;TZID=America/Kentucky/Louisville:20240509T170000
DTSTAMP:20260421T103037
CREATED:20240319T165310Z
LAST-MODIFIED:20240612T150025Z
UID:10000697-1715261400-1715274000@kingartscomplex.com
SUMMARY:Art Through Her Eyes "Masterpiece" Curated by: Tommi Lee
DESCRIPTION:Tommi Lee Gillard was born in Euclid\, Ohio in 1993. She was diagnosed with autism at age 4. She is an aspiring model\, artist\, and a change agent with a book & an animated series in the works. \nEvery April is World Autism Month\, beginning with the United Nations-sanctioned World Autism Awareness Day on April 2. Throughout the month\, the focus is on sharing stories and providing opportunities to increase understanding and acceptance of people with autism and fostering worldwide support.  \nON VIEW\nSaturday\, April 20\, 2024 – Saturday\, June 22\, 2024  \nHOURS\nTuesdays – Fridays\, 1 PM – 5 PM\nTours available by appointment
URL:https://kingartscomplex.com/event/art-through-her-eyes-masterpiece-curated-by-tommi-lee/2024-05-09/
LOCATION:The King Arts Complex\, 835 Mount Vernon Avenue\, Columbus\, OH\, 43203\, United States
CATEGORIES:Visual Art
ORGANIZER;CN="The King Arts Complex":MAILTO:info@kingartscomplex.com
END:VEVENT
BEGIN:VEVENT
DTSTART;TZID=America/Kentucky/Louisville:20240510T133000
DTEND;TZID=America/Kentucky/Louisville:20240510T170000
DTSTAMP:20260421T103037
CREATED:20240319T165310Z
LAST-MODIFIED:20240612T150025Z
UID:10000698-1715347800-1715360400@kingartscomplex.com
SUMMARY:Art Through Her Eyes "Masterpiece" Curated by: Tommi Lee
DESCRIPTION:Tommi Lee Gillard was born in Euclid\, Ohio in 1993. She was diagnosed with autism at age 4. She is an aspiring model\, artist\, and a change agent with a book & an animated series in the works. \nEvery April is World Autism Month\, beginning with the United Nations-sanctioned World Autism Awareness Day on April 2. Throughout the month\, the focus is on sharing stories and providing opportunities to increase understanding and acceptance of people with autism and fostering worldwide support.  \nON VIEW\nSaturday\, April 20\, 2024 – Saturday\, June 22\, 2024  \nHOURS\nTuesdays – Fridays\, 1 PM – 5 PM\nTours available by appointment
URL:https://kingartscomplex.com/event/art-through-her-eyes-masterpiece-curated-by-tommi-lee/2024-05-10/
LOCATION:The King Arts Complex\, 835 Mount Vernon Avenue\, Columbus\, OH\, 43203\, United States
CATEGORIES:Visual Art
ORGANIZER;CN="The King Arts Complex":MAILTO:info@kingartscomplex.com
END:VEVENT
BEGIN:VEVENT
DTSTART;TZID=America/Kentucky/Louisville:20240514T133000
DTEND;TZID=America/Kentucky/Louisville:20240514T170000
DTSTAMP:20260421T103037
CREATED:20240319T165310Z
LAST-MODIFIED:20240612T150025Z
UID:10000699-1715693400-1715706000@kingartscomplex.com
SUMMARY:Art Through Her Eyes "Masterpiece" Curated by: Tommi Lee
DESCRIPTION:Tommi Lee Gillard was born in Euclid\, Ohio in 1993. She was diagnosed with autism at age 4. She is an aspiring model\, artist\, and a change agent with a book & an animated series in the works. \nEvery April is World Autism Month\, beginning with the United Nations-sanctioned World Autism Awareness Day on April 2. Throughout the month\, the focus is on sharing stories and providing opportunities to increase understanding and acceptance of people with autism and fostering worldwide support.  \nON VIEW\nSaturday\, April 20\, 2024 – Saturday\, June 22\, 2024  \nHOURS\nTuesdays – Fridays\, 1 PM – 5 PM\nTours available by appointment
URL:https://kingartscomplex.com/event/art-through-her-eyes-masterpiece-curated-by-tommi-lee/2024-05-14/
LOCATION:The King Arts Complex\, 835 Mount Vernon Avenue\, Columbus\, OH\, 43203\, United States
CATEGORIES:Visual Art
ORGANIZER;CN="The King Arts Complex":MAILTO:info@kingartscomplex.com
END:VEVENT
BEGIN:VEVENT
DTSTART;TZID=America/Kentucky/Louisville:20240515T133000
DTEND;TZID=America/Kentucky/Louisville:20240515T170000
DTSTAMP:20260421T103037
CREATED:20240319T165310Z
LAST-MODIFIED:20240612T150025Z
UID:10000700-1715779800-1715792400@kingartscomplex.com
SUMMARY:Art Through Her Eyes "Masterpiece" Curated by: Tommi Lee
DESCRIPTION:Tommi Lee Gillard was born in Euclid\, Ohio in 1993. She was diagnosed with autism at age 4. She is an aspiring model\, artist\, and a change agent with a book & an animated series in the works. \nEvery April is World Autism Month\, beginning with the United Nations-sanctioned World Autism Awareness Day on April 2. Throughout the month\, the focus is on sharing stories and providing opportunities to increase understanding and acceptance of people with autism and fostering worldwide support.  \nON VIEW\nSaturday\, April 20\, 2024 – Saturday\, June 22\, 2024  \nHOURS\nTuesdays – Fridays\, 1 PM – 5 PM\nTours available by appointment
URL:https://kingartscomplex.com/event/art-through-her-eyes-masterpiece-curated-by-tommi-lee/2024-05-15/
LOCATION:The King Arts Complex\, 835 Mount Vernon Avenue\, Columbus\, OH\, 43203\, United States
CATEGORIES:Visual Art
ORGANIZER;CN="The King Arts Complex":MAILTO:info@kingartscomplex.com
END:VEVENT
BEGIN:VEVENT
DTSTART;TZID=America/Kentucky/Louisville:20240516T133000
DTEND;TZID=America/Kentucky/Louisville:20240516T170000
DTSTAMP:20260421T103037
CREATED:20240319T165310Z
LAST-MODIFIED:20240612T150025Z
UID:10000701-1715866200-1715878800@kingartscomplex.com
SUMMARY:Art Through Her Eyes "Masterpiece" Curated by: Tommi Lee
DESCRIPTION:Tommi Lee Gillard was born in Euclid\, Ohio in 1993. She was diagnosed with autism at age 4. She is an aspiring model\, artist\, and a change agent with a book & an animated series in the works. \nEvery April is World Autism Month\, beginning with the United Nations-sanctioned World Autism Awareness Day on April 2. Throughout the month\, the focus is on sharing stories and providing opportunities to increase understanding and acceptance of people with autism and fostering worldwide support.  \nON VIEW\nSaturday\, April 20\, 2024 – Saturday\, June 22\, 2024  \nHOURS\nTuesdays – Fridays\, 1 PM – 5 PM\nTours available by appointment
URL:https://kingartscomplex.com/event/art-through-her-eyes-masterpiece-curated-by-tommi-lee/2024-05-16/
LOCATION:The King Arts Complex\, 835 Mount Vernon Avenue\, Columbus\, OH\, 43203\, United States
CATEGORIES:Visual Art
ORGANIZER;CN="The King Arts Complex":MAILTO:info@kingartscomplex.com
END:VEVENT
BEGIN:VEVENT
DTSTART;TZID=America/Kentucky/Louisville:20240517T133000
DTEND;TZID=America/Kentucky/Louisville:20240517T170000
DTSTAMP:20260421T103037
CREATED:20240319T165310Z
LAST-MODIFIED:20240612T150025Z
UID:10000702-1715952600-1715965200@kingartscomplex.com
SUMMARY:Art Through Her Eyes "Masterpiece" Curated by: Tommi Lee
DESCRIPTION:Tommi Lee Gillard was born in Euclid\, Ohio in 1993. She was diagnosed with autism at age 4. She is an aspiring model\, artist\, and a change agent with a book & an animated series in the works. \nEvery April is World Autism Month\, beginning with the United Nations-sanctioned World Autism Awareness Day on April 2. Throughout the month\, the focus is on sharing stories and providing opportunities to increase understanding and acceptance of people with autism and fostering worldwide support.  \nON VIEW\nSaturday\, April 20\, 2024 – Saturday\, June 22\, 2024  \nHOURS\nTuesdays – Fridays\, 1 PM – 5 PM\nTours available by appointment
URL:https://kingartscomplex.com/event/art-through-her-eyes-masterpiece-curated-by-tommi-lee/2024-05-17/
LOCATION:The King Arts Complex\, 835 Mount Vernon Avenue\, Columbus\, OH\, 43203\, United States
CATEGORIES:Visual Art
ORGANIZER;CN="The King Arts Complex":MAILTO:info@kingartscomplex.com
END:VEVENT
BEGIN:VEVENT
DTSTART;TZID=America/Kentucky/Louisville:20240517T190000
DTEND;TZID=America/Kentucky/Louisville:20240517T230000
DTSTAMP:20260421T103037
CREATED:20240227T165159Z
LAST-MODIFIED:20240612T150011Z
UID:10000131-1715972400-1715986800@kingartscomplex.com
SUMMARY:37th Anniversary Gala
DESCRIPTION:The King Arts Complex’s 37th annual GALA honoring Demetries Neely\, Executive Director of KAC. This year’s Gala will be held on Friday\, May 17\, 2024\, at 7:00 p.m. We will celebrate Demetries\, who has successfully led KAC for the past thirteen years and has positioned KAC for a bright future. \nOver Demetries’ tenure\, KAC grown its resources\, broadened its donor base\, and brought alignment to the board. Her tenure has been transformative. We have watched as Demetries has improved KAC’s brand equity\, grown popular community programming\, and made significant capital improvements. Demetries came to KAC through service on its board of directors and applied her background in law and business to shore up KAC finances\, pay off debt\, create a positive cash flow and establish an endowment fund. Through her relentless efforts\, community programming has expanded\, and educational programming remains stellar.
URL:https://kingartscomplex.com/event/37th-anniversary-gala/
LOCATION:TBD
CATEGORIES:Social
ORGANIZER;CN="The King Arts Complex":MAILTO:info@kingartscomplex.com
END:VEVENT
BEGIN:VEVENT
DTSTART;TZID=America/Kentucky/Louisville:20240521T133000
DTEND;TZID=America/Kentucky/Louisville:20240521T170000
DTSTAMP:20260421T103037
CREATED:20240319T165310Z
LAST-MODIFIED:20240612T150025Z
UID:10000703-1716298200-1716310800@kingartscomplex.com
SUMMARY:Art Through Her Eyes "Masterpiece" Curated by: Tommi Lee
DESCRIPTION:Tommi Lee Gillard was born in Euclid\, Ohio in 1993. She was diagnosed with autism at age 4. She is an aspiring model\, artist\, and a change agent with a book & an animated series in the works. \nEvery April is World Autism Month\, beginning with the United Nations-sanctioned World Autism Awareness Day on April 2. Throughout the month\, the focus is on sharing stories and providing opportunities to increase understanding and acceptance of people with autism and fostering worldwide support.  \nON VIEW\nSaturday\, April 20\, 2024 – Saturday\, June 22\, 2024  \nHOURS\nTuesdays – Fridays\, 1 PM – 5 PM\nTours available by appointment
URL:https://kingartscomplex.com/event/art-through-her-eyes-masterpiece-curated-by-tommi-lee/2024-05-21/
LOCATION:The King Arts Complex\, 835 Mount Vernon Avenue\, Columbus\, OH\, 43203\, United States
CATEGORIES:Visual Art
ORGANIZER;CN="The King Arts Complex":MAILTO:info@kingartscomplex.com
END:VEVENT
BEGIN:VEVENT
DTSTART;TZID=America/Kentucky/Louisville:20240522T133000
DTEND;TZID=America/Kentucky/Louisville:20240522T170000
DTSTAMP:20260421T103037
CREATED:20240319T165310Z
LAST-MODIFIED:20240612T150025Z
UID:10000704-1716384600-1716397200@kingartscomplex.com
SUMMARY:Art Through Her Eyes "Masterpiece" Curated by: Tommi Lee
DESCRIPTION:Tommi Lee Gillard was born in Euclid\, Ohio in 1993. She was diagnosed with autism at age 4. She is an aspiring model\, artist\, and a change agent with a book & an animated series in the works. \nEvery April is World Autism Month\, beginning with the United Nations-sanctioned World Autism Awareness Day on April 2. Throughout the month\, the focus is on sharing stories and providing opportunities to increase understanding and acceptance of people with autism and fostering worldwide support.  \nON VIEW\nSaturday\, April 20\, 2024 – Saturday\, June 22\, 2024  \nHOURS\nTuesdays – Fridays\, 1 PM – 5 PM\nTours available by appointment
URL:https://kingartscomplex.com/event/art-through-her-eyes-masterpiece-curated-by-tommi-lee/2024-05-22/
LOCATION:The King Arts Complex\, 835 Mount Vernon Avenue\, Columbus\, OH\, 43203\, United States
CATEGORIES:Visual Art
ORGANIZER;CN="The King Arts Complex":MAILTO:info@kingartscomplex.com
END:VEVENT
BEGIN:VEVENT
DTSTART;TZID=America/Kentucky/Louisville:20240523T133000
DTEND;TZID=America/Kentucky/Louisville:20240523T170000
DTSTAMP:20260421T103037
CREATED:20240319T165310Z
LAST-MODIFIED:20240612T150025Z
UID:10000705-1716471000-1716483600@kingartscomplex.com
SUMMARY:Art Through Her Eyes "Masterpiece" Curated by: Tommi Lee
DESCRIPTION:Tommi Lee Gillard was born in Euclid\, Ohio in 1993. She was diagnosed with autism at age 4. She is an aspiring model\, artist\, and a change agent with a book & an animated series in the works. \nEvery April is World Autism Month\, beginning with the United Nations-sanctioned World Autism Awareness Day on April 2. Throughout the month\, the focus is on sharing stories and providing opportunities to increase understanding and acceptance of people with autism and fostering worldwide support.  \nON VIEW\nSaturday\, April 20\, 2024 – Saturday\, June 22\, 2024  \nHOURS\nTuesdays – Fridays\, 1 PM – 5 PM\nTours available by appointment
URL:https://kingartscomplex.com/event/art-through-her-eyes-masterpiece-curated-by-tommi-lee/2024-05-23/
LOCATION:The King Arts Complex\, 835 Mount Vernon Avenue\, Columbus\, OH\, 43203\, United States
CATEGORIES:Visual Art
ORGANIZER;CN="The King Arts Complex":MAILTO:info@kingartscomplex.com
END:VEVENT
BEGIN:VEVENT
DTSTART;TZID=America/Kentucky/Louisville:20240524T133000
DTEND;TZID=America/Kentucky/Louisville:20240524T170000
DTSTAMP:20260421T103037
CREATED:20240319T165310Z
LAST-MODIFIED:20240612T150025Z
UID:10000706-1716557400-1716570000@kingartscomplex.com
SUMMARY:Art Through Her Eyes "Masterpiece" Curated by: Tommi Lee
DESCRIPTION:Tommi Lee Gillard was born in Euclid\, Ohio in 1993. She was diagnosed with autism at age 4. She is an aspiring model\, artist\, and a change agent with a book & an animated series in the works. \nEvery April is World Autism Month\, beginning with the United Nations-sanctioned World Autism Awareness Day on April 2. Throughout the month\, the focus is on sharing stories and providing opportunities to increase understanding and acceptance of people with autism and fostering worldwide support.  \nON VIEW\nSaturday\, April 20\, 2024 – Saturday\, June 22\, 2024  \nHOURS\nTuesdays – Fridays\, 1 PM – 5 PM\nTours available by appointment
URL:https://kingartscomplex.com/event/art-through-her-eyes-masterpiece-curated-by-tommi-lee/2024-05-24/
LOCATION:The King Arts Complex\, 835 Mount Vernon Avenue\, Columbus\, OH\, 43203\, United States
CATEGORIES:Visual Art
ORGANIZER;CN="The King Arts Complex":MAILTO:info@kingartscomplex.com
END:VEVENT
BEGIN:VEVENT
DTSTART;TZID=America/Kentucky/Louisville:20240528T133000
DTEND;TZID=America/Kentucky/Louisville:20240528T170000
DTSTAMP:20260421T103037
CREATED:20240319T165310Z
LAST-MODIFIED:20240612T150025Z
UID:10000707-1716903000-1716915600@kingartscomplex.com
SUMMARY:Art Through Her Eyes "Masterpiece" Curated by: Tommi Lee
DESCRIPTION:Tommi Lee Gillard was born in Euclid\, Ohio in 1993. She was diagnosed with autism at age 4. She is an aspiring model\, artist\, and a change agent with a book & an animated series in the works. \nEvery April is World Autism Month\, beginning with the United Nations-sanctioned World Autism Awareness Day on April 2. Throughout the month\, the focus is on sharing stories and providing opportunities to increase understanding and acceptance of people with autism and fostering worldwide support.  \nON VIEW\nSaturday\, April 20\, 2024 – Saturday\, June 22\, 2024  \nHOURS\nTuesdays – Fridays\, 1 PM – 5 PM\nTours available by appointment
URL:https://kingartscomplex.com/event/art-through-her-eyes-masterpiece-curated-by-tommi-lee/2024-05-28/
LOCATION:The King Arts Complex\, 835 Mount Vernon Avenue\, Columbus\, OH\, 43203\, United States
CATEGORIES:Visual Art
ORGANIZER;CN="The King Arts Complex":MAILTO:info@kingartscomplex.com
END:VEVENT
BEGIN:VEVENT
DTSTART;TZID=America/Kentucky/Louisville:20240529T133000
DTEND;TZID=America/Kentucky/Louisville:20240529T170000
DTSTAMP:20260421T103037
CREATED:20240319T165310Z
LAST-MODIFIED:20240612T150025Z
UID:10000708-1716989400-1717002000@kingartscomplex.com
SUMMARY:Art Through Her Eyes "Masterpiece" Curated by: Tommi Lee
DESCRIPTION:Tommi Lee Gillard was born in Euclid\, Ohio in 1993. She was diagnosed with autism at age 4. She is an aspiring model\, artist\, and a change agent with a book & an animated series in the works. \nEvery April is World Autism Month\, beginning with the United Nations-sanctioned World Autism Awareness Day on April 2. Throughout the month\, the focus is on sharing stories and providing opportunities to increase understanding and acceptance of people with autism and fostering worldwide support.  \nON VIEW\nSaturday\, April 20\, 2024 – Saturday\, June 22\, 2024  \nHOURS\nTuesdays – Fridays\, 1 PM – 5 PM\nTours available by appointment
URL:https://kingartscomplex.com/event/art-through-her-eyes-masterpiece-curated-by-tommi-lee/2024-05-29/
LOCATION:The King Arts Complex\, 835 Mount Vernon Avenue\, Columbus\, OH\, 43203\, United States
CATEGORIES:Visual Art
ORGANIZER;CN="The King Arts Complex":MAILTO:info@kingartscomplex.com
END:VEVENT
BEGIN:VEVENT
DTSTART;TZID=America/Kentucky/Louisville:20240530T133000
DTEND;TZID=America/Kentucky/Louisville:20240530T170000
DTSTAMP:20260421T103037
CREATED:20240319T165310Z
LAST-MODIFIED:20240612T150025Z
UID:10000709-1717075800-1717088400@kingartscomplex.com
SUMMARY:Art Through Her Eyes "Masterpiece" Curated by: Tommi Lee
DESCRIPTION:Tommi Lee Gillard was born in Euclid\, Ohio in 1993. She was diagnosed with autism at age 4. She is an aspiring model\, artist\, and a change agent with a book & an animated series in the works. \nEvery April is World Autism Month\, beginning with the United Nations-sanctioned World Autism Awareness Day on April 2. Throughout the month\, the focus is on sharing stories and providing opportunities to increase understanding and acceptance of people with autism and fostering worldwide support.  \nON VIEW\nSaturday\, April 20\, 2024 – Saturday\, June 22\, 2024  \nHOURS\nTuesdays – Fridays\, 1 PM – 5 PM\nTours available by appointment
URL:https://kingartscomplex.com/event/art-through-her-eyes-masterpiece-curated-by-tommi-lee/2024-05-30/
LOCATION:The King Arts Complex\, 835 Mount Vernon Avenue\, Columbus\, OH\, 43203\, United States
CATEGORIES:Visual Art
ORGANIZER;CN="The King Arts Complex":MAILTO:info@kingartscomplex.com
END:VEVENT
BEGIN:VEVENT
DTSTART;TZID=America/Kentucky/Louisville:20240531T133000
DTEND;TZID=America/Kentucky/Louisville:20240531T170000
DTSTAMP:20260421T103037
CREATED:20240319T165310Z
LAST-MODIFIED:20240612T150025Z
UID:10000710-1717162200-1717174800@kingartscomplex.com
SUMMARY:Art Through Her Eyes "Masterpiece" Curated by: Tommi Lee
DESCRIPTION:Tommi Lee Gillard was born in Euclid\, Ohio in 1993. She was diagnosed with autism at age 4. She is an aspiring model\, artist\, and a change agent with a book & an animated series in the works. \nEvery April is World Autism Month\, beginning with the United Nations-sanctioned World Autism Awareness Day on April 2. Throughout the month\, the focus is on sharing stories and providing opportunities to increase understanding and acceptance of people with autism and fostering worldwide support.  \nON VIEW\nSaturday\, April 20\, 2024 – Saturday\, June 22\, 2024  \nHOURS\nTuesdays – Fridays\, 1 PM – 5 PM\nTours available by appointment
URL:https://kingartscomplex.com/event/art-through-her-eyes-masterpiece-curated-by-tommi-lee/2024-05-31/
LOCATION:The King Arts Complex\, 835 Mount Vernon Avenue\, Columbus\, OH\, 43203\, United States
CATEGORIES:Visual Art
ORGANIZER;CN="The King Arts Complex":MAILTO:info@kingartscomplex.com
END:VEVENT
END:VCALENDAR