BEGIN:VCALENDAR
VERSION:2.0
PRODID:-//King Arts Complex - ECPv6.15.20//NONSGML v1.0//EN
CALSCALE:GREGORIAN
METHOD:PUBLISH
X-WR-CALNAME:King Arts Complex
X-ORIGINAL-URL:https://kingartscomplex.com
X-WR-CALDESC:Events for King Arts Complex
REFRESH-INTERVAL;VALUE=DURATION:PT1H
X-Robots-Tag:noindex
X-PUBLISHED-TTL:PT1H
BEGIN:VTIMEZONE
TZID:America/Kentucky/Louisville
BEGIN:DAYLIGHT
TZOFFSETFROM:-0500
TZOFFSETTO:-0400
TZNAME:EDT
DTSTART:20230312T070000
END:DAYLIGHT
BEGIN:STANDARD
TZOFFSETFROM:-0400
TZOFFSETTO:-0500
TZNAME:EST
DTSTART:20231105T060000
END:STANDARD
BEGIN:DAYLIGHT
TZOFFSETFROM:-0500
TZOFFSETTO:-0400
TZNAME:EDT
DTSTART:20240310T070000
END:DAYLIGHT
BEGIN:STANDARD
TZOFFSETFROM:-0400
TZOFFSETTO:-0500
TZNAME:EST
DTSTART:20241103T060000
END:STANDARD
BEGIN:DAYLIGHT
TZOFFSETFROM:-0500
TZOFFSETTO:-0400
TZNAME:EDT
DTSTART:20250309T070000
END:DAYLIGHT
BEGIN:STANDARD
TZOFFSETFROM:-0400
TZOFFSETTO:-0500
TZNAME:EST
DTSTART:20251102T060000
END:STANDARD
END:VTIMEZONE
BEGIN:VEVENT
DTSTART;TZID=America/Kentucky/Louisville:20240401T090000
DTEND;TZID=America/Kentucky/Louisville:20240401T160000
DTSTAMP:20260421T085221
CREATED:20240227T164625Z
LAST-MODIFIED:20240612T150324Z
UID:10000132-1711962000-1711987200@kingartscomplex.com
SUMMARY:Spring Academy - College Visits
DESCRIPTION:Spring Academy is a 5-day program to promote higher education in the art fields. Students will tour Central State University*\, Wilberforce University\, Columbus College of Art & Design\, Columbus State Community College\, Cleveland State University\, The Ohio State University\, and Kentucky State University to and learn more about art majors and career opportunities for artists. This program is open to all high school students interested in pursuing a degree in an art field. The student must be accompanied to each visit by an adult. Registration is limited. \nThe program includes: \nTransportation\nWaived Application Fees*\nAdmission Presentations\nGuided and Personal Tours\nFAFSA Workshop\nLunch
URL:https://kingartscomplex.com/event/spring-academy-college-visits/2024-04-01/
LOCATION:The King Arts Complex\, 835 Mount Vernon Avenue\, Columbus\, OH\, 43203\, United States
CATEGORIES:Education
ORGANIZER;CN="The King Arts Complex":MAILTO:info@kingartscomplex.com
END:VEVENT
BEGIN:VEVENT
DTSTART;TZID=America/Kentucky/Louisville:20240402T090000
DTEND;TZID=America/Kentucky/Louisville:20240402T160000
DTSTAMP:20260421T085221
CREATED:20240227T164625Z
LAST-MODIFIED:20240612T150324Z
UID:10000133-1712048400-1712073600@kingartscomplex.com
SUMMARY:Spring Academy - College Visits
DESCRIPTION:Spring Academy is a 5-day program to promote higher education in the art fields. Students will tour Central State University*\, Wilberforce University\, Columbus College of Art & Design\, Columbus State Community College\, Cleveland State University\, The Ohio State University\, and Kentucky State University to and learn more about art majors and career opportunities for artists. This program is open to all high school students interested in pursuing a degree in an art field. The student must be accompanied to each visit by an adult. Registration is limited. \nThe program includes: \nTransportation\nWaived Application Fees*\nAdmission Presentations\nGuided and Personal Tours\nFAFSA Workshop\nLunch
URL:https://kingartscomplex.com/event/spring-academy-college-visits/2024-04-02/
LOCATION:The King Arts Complex\, 835 Mount Vernon Avenue\, Columbus\, OH\, 43203\, United States
CATEGORIES:Education
ORGANIZER;CN="The King Arts Complex":MAILTO:info@kingartscomplex.com
END:VEVENT
BEGIN:VEVENT
DTSTART;TZID=America/Kentucky/Louisville:20240403T090000
DTEND;TZID=America/Kentucky/Louisville:20240403T160000
DTSTAMP:20260421T085221
CREATED:20240227T164625Z
LAST-MODIFIED:20240612T150324Z
UID:10000134-1712134800-1712160000@kingartscomplex.com
SUMMARY:Spring Academy - College Visits
DESCRIPTION:Spring Academy is a 5-day program to promote higher education in the art fields. Students will tour Central State University*\, Wilberforce University\, Columbus College of Art & Design\, Columbus State Community College\, Cleveland State University\, The Ohio State University\, and Kentucky State University to and learn more about art majors and career opportunities for artists. This program is open to all high school students interested in pursuing a degree in an art field. The student must be accompanied to each visit by an adult. Registration is limited. \nThe program includes: \nTransportation\nWaived Application Fees*\nAdmission Presentations\nGuided and Personal Tours\nFAFSA Workshop\nLunch
URL:https://kingartscomplex.com/event/spring-academy-college-visits/2024-04-03/
LOCATION:The King Arts Complex\, 835 Mount Vernon Avenue\, Columbus\, OH\, 43203\, United States
CATEGORIES:Education
ORGANIZER;CN="The King Arts Complex":MAILTO:info@kingartscomplex.com
END:VEVENT
BEGIN:VEVENT
DTSTART;TZID=America/Kentucky/Louisville:20240403T180000
DTEND;TZID=America/Kentucky/Louisville:20240403T200000
DTSTAMP:20260421T085221
CREATED:20240227T164335Z
LAST-MODIFIED:20240612T150300Z
UID:10000137-1712167200-1712174400@kingartscomplex.com
SUMMARY:2024 Dream Awards
DESCRIPTION:As part of the King Arts Complex 37th Anniversary Celebration\, the Women’s Service Board presents the Annual Dream Awards Reception. The King Arts Complex pays tribute to individuals and businesses within the Columbus community that have had a profound impact on the King Arts Complex and the Columbus community. The Dream Awards presentation is a celebration of service and is open to the public. Invited guests include major donors and key civic and cultural leaders. This award is the highest honor bestowed upon a supporter of the King Arts Complex. \nSponsored by The King Arts Complex – Women’s Service Board
URL:https://kingartscomplex.com/event/2024-dream-awards/
LOCATION:The King Arts Complex\, 835 Mount Vernon Avenue\, Columbus\, OH\, 43203\, United States
CATEGORIES:Social
ORGANIZER;CN="The King Arts Complex":MAILTO:info@kingartscomplex.com
END:VEVENT
BEGIN:VEVENT
DTSTART;TZID=America/Kentucky/Louisville:20240404T090000
DTEND;TZID=America/Kentucky/Louisville:20240404T160000
DTSTAMP:20260421T085221
CREATED:20240227T164625Z
LAST-MODIFIED:20240612T150324Z
UID:10000135-1712221200-1712246400@kingartscomplex.com
SUMMARY:Spring Academy - College Visits
DESCRIPTION:Spring Academy is a 5-day program to promote higher education in the art fields. Students will tour Central State University*\, Wilberforce University\, Columbus College of Art & Design\, Columbus State Community College\, Cleveland State University\, The Ohio State University\, and Kentucky State University to and learn more about art majors and career opportunities for artists. This program is open to all high school students interested in pursuing a degree in an art field. The student must be accompanied to each visit by an adult. Registration is limited. \nThe program includes: \nTransportation\nWaived Application Fees*\nAdmission Presentations\nGuided and Personal Tours\nFAFSA Workshop\nLunch
URL:https://kingartscomplex.com/event/spring-academy-college-visits/2024-04-04/
LOCATION:The King Arts Complex\, 835 Mount Vernon Avenue\, Columbus\, OH\, 43203\, United States
CATEGORIES:Education
ORGANIZER;CN="The King Arts Complex":MAILTO:info@kingartscomplex.com
END:VEVENT
BEGIN:VEVENT
DTSTART;TZID=America/Kentucky/Louisville:20240405T090000
DTEND;TZID=America/Kentucky/Louisville:20240405T160000
DTSTAMP:20260421T085221
CREATED:20240227T164625Z
LAST-MODIFIED:20240612T150324Z
UID:10000136-1712307600-1712332800@kingartscomplex.com
SUMMARY:Spring Academy - College Visits
DESCRIPTION:Spring Academy is a 5-day program to promote higher education in the art fields. Students will tour Central State University*\, Wilberforce University\, Columbus College of Art & Design\, Columbus State Community College\, Cleveland State University\, The Ohio State University\, and Kentucky State University to and learn more about art majors and career opportunities for artists. This program is open to all high school students interested in pursuing a degree in an art field. The student must be accompanied to each visit by an adult. Registration is limited. \nThe program includes: \nTransportation\nWaived Application Fees*\nAdmission Presentations\nGuided and Personal Tours\nFAFSA Workshop\nLunch
URL:https://kingartscomplex.com/event/spring-academy-college-visits/2024-04-05/
LOCATION:The King Arts Complex\, 835 Mount Vernon Avenue\, Columbus\, OH\, 43203\, United States
CATEGORIES:Education
ORGANIZER;CN="The King Arts Complex":MAILTO:info@kingartscomplex.com
END:VEVENT
BEGIN:VEVENT
DTSTART;TZID=America/Kentucky/Louisville:20240413T110000
DTEND;TZID=America/Kentucky/Louisville:20240413T123000
DTSTAMP:20260421T085221
CREATED:20240412T171221Z
LAST-MODIFIED:20240612T150234Z
UID:10000724-1713006000-1713011400@kingartscomplex.com
SUMMARY:Discover Dance 2024 - BalletMet
DESCRIPTION:Discover Dance Scholarship Program\n2024 Auditions  \nThis program offers students in the Central Ohio area opportunities for quality ballet and dance education.  \nWHAT IS THE DISCOVER DANCE SCHOLARSHIP PROGRAM? \nBalletMet’s Discover Dance Scholarship Program offers students in the Central Ohio area opportunities for quality ballet and dance education and training. This scholarship provides a student with fully funded yearly tuition to the BalletMet Dance Academy. Scholarships require an audition and must\nbe renewed annually. BalletMet is committed to the principles of Anti-Racism\, Equity and inclusivity.  \nWHO CAN PARTICIPATE IN THE AUDITION? \nInterested students must be 7-10 years of age by September 30\, 2024. No previous dance training is necessary.  \nWHY SHOULD A STUDENT PARTICIPATE IN THE AUDITION? \nBalletMet is committed to bringing the positive influence of ballet and dance to the Columbus community. Through the Discover Dance Scholarship Program\, BalletMet strives to make the art and discipline of dance available to talented and committed students.
URL:https://kingartscomplex.com/event/discover-dance-2024-balletmet/
LOCATION:The King Arts Complex\, 835 Mount Vernon Avenue\, Columbus\, OH\, 43203\, United States
CATEGORIES:Dance
ORGANIZER;CN="The King Arts Complex":MAILTO:info@kingartscomplex.com
END:VEVENT
BEGIN:VEVENT
DTSTART;TZID=America/Kentucky/Louisville:20240420T120000
DTEND;TZID=America/Kentucky/Louisville:20240420T150000
DTSTAMP:20260421T085221
CREATED:20240402T194221Z
LAST-MODIFIED:20240612T150227Z
UID:10000723-1713614400-1713625200@kingartscomplex.com
SUMMARY:2024 Earth Day Celebration
DESCRIPTION:Join the King Arts Complex along with the ladies of Alpha Kappa Alpha Sorority\, Inc. – Alpha Sigma Omega Chapter for an Earth Day Celebration on Saturday\, April 20\, 2024!
URL:https://kingartscomplex.com/event/2024-earth-day-celebration/
LOCATION:The King Arts Complex\, 835 Mount Vernon Avenue\, Columbus\, OH\, 43203\, United States
CATEGORIES:Social
ORGANIZER;CN="The King Arts Complex":MAILTO:info@kingartscomplex.com
END:VEVENT
BEGIN:VEVENT
DTSTART;TZID=America/Kentucky/Louisville:20240420T140000
DTEND;TZID=America/Kentucky/Louisville:20240420T160000
DTSTAMP:20260421T085221
CREATED:20240319T165310Z
LAST-MODIFIED:20240612T150025Z
UID:10000686-1713621600-1713628800@kingartscomplex.com
SUMMARY:Art Through Her Eyes "Masterpiece" Curated by: Tommi Lee
DESCRIPTION:Tommi Lee Gillard was born in Euclid\, Ohio in 1993. She was diagnosed with autism at age 4. She is an aspiring model\, artist\, and a change agent with a book & an animated series in the works. \nEvery April is World Autism Month\, beginning with the United Nations-sanctioned World Autism Awareness Day on April 2. Throughout the month\, the focus is on sharing stories and providing opportunities to increase understanding and acceptance of people with autism and fostering worldwide support.  \nON VIEW\nSaturday\, April 20\, 2024 – Saturday\, June 22\, 2024  \nHOURS\nTuesdays – Fridays\, 1 PM – 5 PM\nTours available by appointment
URL:https://kingartscomplex.com/event/art-through-her-eyes-masterpiece-curated-by-tommi-lee/2024-04-20/
LOCATION:The King Arts Complex\, 835 Mount Vernon Avenue\, Columbus\, OH\, 43203\, United States
CATEGORIES:Visual Art
ORGANIZER;CN="The King Arts Complex":MAILTO:info@kingartscomplex.com
END:VEVENT
BEGIN:VEVENT
DTSTART;TZID=America/Kentucky/Louisville:20240423T133000
DTEND;TZID=America/Kentucky/Louisville:20240423T170000
DTSTAMP:20260421T085221
CREATED:20240319T165310Z
LAST-MODIFIED:20240612T150025Z
UID:10000687-1713879000-1713891600@kingartscomplex.com
SUMMARY:Art Through Her Eyes "Masterpiece" Curated by: Tommi Lee
DESCRIPTION:Tommi Lee Gillard was born in Euclid\, Ohio in 1993. She was diagnosed with autism at age 4. She is an aspiring model\, artist\, and a change agent with a book & an animated series in the works. \nEvery April is World Autism Month\, beginning with the United Nations-sanctioned World Autism Awareness Day on April 2. Throughout the month\, the focus is on sharing stories and providing opportunities to increase understanding and acceptance of people with autism and fostering worldwide support.  \nON VIEW\nSaturday\, April 20\, 2024 – Saturday\, June 22\, 2024  \nHOURS\nTuesdays – Fridays\, 1 PM – 5 PM\nTours available by appointment
URL:https://kingartscomplex.com/event/art-through-her-eyes-masterpiece-curated-by-tommi-lee/2024-04-23/
LOCATION:The King Arts Complex\, 835 Mount Vernon Avenue\, Columbus\, OH\, 43203\, United States
CATEGORIES:Visual Art
ORGANIZER;CN="The King Arts Complex":MAILTO:info@kingartscomplex.com
END:VEVENT
BEGIN:VEVENT
DTSTART;TZID=America/Kentucky/Louisville:20240424T133000
DTEND;TZID=America/Kentucky/Louisville:20240424T170000
DTSTAMP:20260421T085221
CREATED:20240319T165310Z
LAST-MODIFIED:20240612T150025Z
UID:10000688-1713965400-1713978000@kingartscomplex.com
SUMMARY:Art Through Her Eyes "Masterpiece" Curated by: Tommi Lee
DESCRIPTION:Tommi Lee Gillard was born in Euclid\, Ohio in 1993. She was diagnosed with autism at age 4. She is an aspiring model\, artist\, and a change agent with a book & an animated series in the works. \nEvery April is World Autism Month\, beginning with the United Nations-sanctioned World Autism Awareness Day on April 2. Throughout the month\, the focus is on sharing stories and providing opportunities to increase understanding and acceptance of people with autism and fostering worldwide support.  \nON VIEW\nSaturday\, April 20\, 2024 – Saturday\, June 22\, 2024  \nHOURS\nTuesdays – Fridays\, 1 PM – 5 PM\nTours available by appointment
URL:https://kingartscomplex.com/event/art-through-her-eyes-masterpiece-curated-by-tommi-lee/2024-04-24/
LOCATION:The King Arts Complex\, 835 Mount Vernon Avenue\, Columbus\, OH\, 43203\, United States
CATEGORIES:Visual Art
ORGANIZER;CN="The King Arts Complex":MAILTO:info@kingartscomplex.com
END:VEVENT
BEGIN:VEVENT
DTSTART;TZID=America/Kentucky/Louisville:20240425T133000
DTEND;TZID=America/Kentucky/Louisville:20240425T170000
DTSTAMP:20260421T085221
CREATED:20240319T165310Z
LAST-MODIFIED:20240612T150025Z
UID:10000689-1714051800-1714064400@kingartscomplex.com
SUMMARY:Art Through Her Eyes "Masterpiece" Curated by: Tommi Lee
DESCRIPTION:Tommi Lee Gillard was born in Euclid\, Ohio in 1993. She was diagnosed with autism at age 4. She is an aspiring model\, artist\, and a change agent with a book & an animated series in the works. \nEvery April is World Autism Month\, beginning with the United Nations-sanctioned World Autism Awareness Day on April 2. Throughout the month\, the focus is on sharing stories and providing opportunities to increase understanding and acceptance of people with autism and fostering worldwide support.  \nON VIEW\nSaturday\, April 20\, 2024 – Saturday\, June 22\, 2024  \nHOURS\nTuesdays – Fridays\, 1 PM – 5 PM\nTours available by appointment
URL:https://kingartscomplex.com/event/art-through-her-eyes-masterpiece-curated-by-tommi-lee/2024-04-25/
LOCATION:The King Arts Complex\, 835 Mount Vernon Avenue\, Columbus\, OH\, 43203\, United States
CATEGORIES:Visual Art
ORGANIZER;CN="The King Arts Complex":MAILTO:info@kingartscomplex.com
END:VEVENT
BEGIN:VEVENT
DTSTART;TZID=America/Kentucky/Louisville:20240426T133000
DTEND;TZID=America/Kentucky/Louisville:20240426T170000
DTSTAMP:20260421T085221
CREATED:20240319T165310Z
LAST-MODIFIED:20240612T150025Z
UID:10000690-1714138200-1714150800@kingartscomplex.com
SUMMARY:Art Through Her Eyes "Masterpiece" Curated by: Tommi Lee
DESCRIPTION:Tommi Lee Gillard was born in Euclid\, Ohio in 1993. She was diagnosed with autism at age 4. She is an aspiring model\, artist\, and a change agent with a book & an animated series in the works. \nEvery April is World Autism Month\, beginning with the United Nations-sanctioned World Autism Awareness Day on April 2. Throughout the month\, the focus is on sharing stories and providing opportunities to increase understanding and acceptance of people with autism and fostering worldwide support.  \nON VIEW\nSaturday\, April 20\, 2024 – Saturday\, June 22\, 2024  \nHOURS\nTuesdays – Fridays\, 1 PM – 5 PM\nTours available by appointment
URL:https://kingartscomplex.com/event/art-through-her-eyes-masterpiece-curated-by-tommi-lee/2024-04-26/
LOCATION:The King Arts Complex\, 835 Mount Vernon Avenue\, Columbus\, OH\, 43203\, United States
CATEGORIES:Visual Art
ORGANIZER;CN="The King Arts Complex":MAILTO:info@kingartscomplex.com
END:VEVENT
BEGIN:VEVENT
DTSTART;TZID=America/Kentucky/Louisville:20240430T133000
DTEND;TZID=America/Kentucky/Louisville:20240430T170000
DTSTAMP:20260421T085221
CREATED:20240319T165310Z
LAST-MODIFIED:20240612T150025Z
UID:10000691-1714483800-1714496400@kingartscomplex.com
SUMMARY:Art Through Her Eyes "Masterpiece" Curated by: Tommi Lee
DESCRIPTION:Tommi Lee Gillard was born in Euclid\, Ohio in 1993. She was diagnosed with autism at age 4. She is an aspiring model\, artist\, and a change agent with a book & an animated series in the works. \nEvery April is World Autism Month\, beginning with the United Nations-sanctioned World Autism Awareness Day on April 2. Throughout the month\, the focus is on sharing stories and providing opportunities to increase understanding and acceptance of people with autism and fostering worldwide support.  \nON VIEW\nSaturday\, April 20\, 2024 – Saturday\, June 22\, 2024  \nHOURS\nTuesdays – Fridays\, 1 PM – 5 PM\nTours available by appointment
URL:https://kingartscomplex.com/event/art-through-her-eyes-masterpiece-curated-by-tommi-lee/2024-04-30/
LOCATION:The King Arts Complex\, 835 Mount Vernon Avenue\, Columbus\, OH\, 43203\, United States
CATEGORIES:Visual Art
ORGANIZER;CN="The King Arts Complex":MAILTO:info@kingartscomplex.com
END:VEVENT
END:VCALENDAR