BEGIN:VCALENDAR
VERSION:2.0
PRODID:-//King Arts Complex - ECPv6.15.20//NONSGML v1.0//EN
CALSCALE:GREGORIAN
METHOD:PUBLISH
X-ORIGINAL-URL:https://kingartscomplex.com
X-WR-CALDESC:Events for King Arts Complex
REFRESH-INTERVAL;VALUE=DURATION:PT1H
X-Robots-Tag:noindex
X-PUBLISHED-TTL:PT1H
BEGIN:VTIMEZONE
TZID:UTC
BEGIN:STANDARD
TZOFFSETFROM:+0000
TZOFFSETTO:+0000
TZNAME:UTC
DTSTART:20190101T000000
END:STANDARD
END:VTIMEZONE
BEGIN:VEVENT
DTSTART;TZID=UTC:20200501T110000
DTEND;TZID=UTC:20200501T173000
DTSTAMP:20260420T160427
CREATED:20200324T001956Z
LAST-MODIFIED:20200406T005327Z
UID:10000277-1588330800-1588354200@kingartscomplex.com
SUMMARY:Through Their Eyes - Guest Curator: Tommie Lee Gilliard - CANCELLED
DESCRIPTION:This exhibit is in honor of autism awareness month and is focused to celebrate creatives with “differabilities.’ Guest curator\, Tommie Lee will select work from artists that make art at the Open Door art studio and gallery. \nThis exhibit will be on display from April 16 to May 7\, 2020. \nFree Community Event \nPresented as part Autism Awareness Month
URL:https://kingartscomplex.com/event/through-their-eyes-opening-guest-curator-tommie-lee-gilliard-postponed-until-further-notice/2020-05-01/
LOCATION:The King Arts Complex\, 835 Mount Vernon Avenue\, Columbus\, OH\, 43203\, United States
CATEGORIES:Exhibits
ATTACH;FMTTYPE=image/jpeg:https://kingartscomplex.com/wp-content/uploads/2020/03/Tommi-Lee3_005-1-Copy.jpg
ORGANIZER;CN="The King Arts Complex":MAILTO:info@kingartscomplex.com
END:VEVENT
BEGIN:VEVENT
DTSTART;TZID=UTC:20200505T110000
DTEND;TZID=UTC:20200505T173000
DTSTAMP:20260420T160427
CREATED:20200324T001956Z
LAST-MODIFIED:20200406T005327Z
UID:10000278-1588676400-1588699800@kingartscomplex.com
SUMMARY:Through Their Eyes - Guest Curator: Tommie Lee Gilliard - CANCELLED
DESCRIPTION:This exhibit is in honor of autism awareness month and is focused to celebrate creatives with “differabilities.’ Guest curator\, Tommie Lee will select work from artists that make art at the Open Door art studio and gallery. \nThis exhibit will be on display from April 16 to May 7\, 2020. \nFree Community Event \nPresented as part Autism Awareness Month
URL:https://kingartscomplex.com/event/through-their-eyes-opening-guest-curator-tommie-lee-gilliard-postponed-until-further-notice/2020-05-05/
LOCATION:The King Arts Complex\, 835 Mount Vernon Avenue\, Columbus\, OH\, 43203\, United States
CATEGORIES:Exhibits
ATTACH;FMTTYPE=image/jpeg:https://kingartscomplex.com/wp-content/uploads/2020/03/Tommi-Lee3_005-1-Copy.jpg
ORGANIZER;CN="The King Arts Complex":MAILTO:info@kingartscomplex.com
END:VEVENT
BEGIN:VEVENT
DTSTART;TZID=UTC:20200505T120000
DTEND;TZID=UTC:20200505T140000
DTSTAMP:20260420T160427
CREATED:20200324T002259Z
LAST-MODIFIED:20200324T002259Z
UID:10000282-1588680000-1588687200@kingartscomplex.com
SUMMARY:First Tuesday Tea - May - CANCELLED
DESCRIPTION:Tea: A term often used to refer to some juicy information. First Tuesday Tea is an informal forum that allows seniors (ages 55 and older) to engage in dialogue about art\, music\, literary interests\, as well as social and current issues. Sessions will include presentations by guest artists\, lecturers and community activists. \nEach month\, participants look forward to the camaraderie that comes from meeting new friends in a safe\, relaxed atmosphere\, and the opportunity to discover abilities and creative talents. \nFeel free to arrive early. The doors to the event will open at 11:30 AM. In the meantime\, you can take a stroll into the gallery\, peruse our corridor gallery or hang out in waiting area in the lobby. \nYou can park in our lot behind the King Arts Complex\, as well as the Bethany Presbyterian Church parking lot on N. Garfield Avenue. We have an additional parking lot on the Mount Vernon side\, across from our building. \nIf you plan to attend\, please contact Hellen at (614) 645-0674 or hcorder@kingartscomplex.com. \nAges 55+ (No children. Men are also welcome.) \nFirst Tuesday Tea is a free community event open to the public. \nSponsored by the Isabelle Ridgway Foundation.
URL:https://kingartscomplex.com/event/first-tuesday-tea-may-cancelled/
LOCATION:The King Arts Complex\, 835 Mount Vernon Avenue\, Columbus\, OH\, 43203\, United States
ATTACH;FMTTYPE=image/jpeg:https://kingartscomplex.com/wp-content/uploads/2020/03/king-arts-first-tea-tues.jpg
END:VEVENT
BEGIN:VEVENT
DTSTART;TZID=UTC:20200506T110000
DTEND;TZID=UTC:20200506T173000
DTSTAMP:20260420T160427
CREATED:20200324T001956Z
LAST-MODIFIED:20200406T005327Z
UID:10000279-1588762800-1588786200@kingartscomplex.com
SUMMARY:Through Their Eyes - Guest Curator: Tommie Lee Gilliard - CANCELLED
DESCRIPTION:This exhibit is in honor of autism awareness month and is focused to celebrate creatives with “differabilities.’ Guest curator\, Tommie Lee will select work from artists that make art at the Open Door art studio and gallery. \nThis exhibit will be on display from April 16 to May 7\, 2020. \nFree Community Event \nPresented as part Autism Awareness Month
URL:https://kingartscomplex.com/event/through-their-eyes-opening-guest-curator-tommie-lee-gilliard-postponed-until-further-notice/2020-05-06/
LOCATION:The King Arts Complex\, 835 Mount Vernon Avenue\, Columbus\, OH\, 43203\, United States
CATEGORIES:Exhibits
ATTACH;FMTTYPE=image/jpeg:https://kingartscomplex.com/wp-content/uploads/2020/03/Tommi-Lee3_005-1-Copy.jpg
ORGANIZER;CN="The King Arts Complex":MAILTO:info@kingartscomplex.com
END:VEVENT
BEGIN:VEVENT
DTSTART;TZID=UTC:20200507T110000
DTEND;TZID=UTC:20200507T173000
DTSTAMP:20260420T160427
CREATED:20200324T001956Z
LAST-MODIFIED:20200406T005327Z
UID:10000280-1588849200-1588872600@kingartscomplex.com
SUMMARY:Through Their Eyes - Guest Curator: Tommie Lee Gilliard - CANCELLED
DESCRIPTION:This exhibit is in honor of autism awareness month and is focused to celebrate creatives with “differabilities.’ Guest curator\, Tommie Lee will select work from artists that make art at the Open Door art studio and gallery. \nThis exhibit will be on display from April 16 to May 7\, 2020. \nFree Community Event \nPresented as part Autism Awareness Month
URL:https://kingartscomplex.com/event/through-their-eyes-opening-guest-curator-tommie-lee-gilliard-postponed-until-further-notice/2020-05-07/
LOCATION:The King Arts Complex\, 835 Mount Vernon Avenue\, Columbus\, OH\, 43203\, United States
CATEGORIES:Exhibits
ATTACH;FMTTYPE=image/jpeg:https://kingartscomplex.com/wp-content/uploads/2020/03/Tommi-Lee3_005-1-Copy.jpg
ORGANIZER;CN="The King Arts Complex":MAILTO:info@kingartscomplex.com
END:VEVENT
BEGIN:VEVENT
DTSTART;TZID=UTC:20200516T180000
DTEND;TZID=UTC:20200516T190000
DTSTAMP:20260420T160427
CREATED:20200514T232157Z
LAST-MODIFIED:20200514T233644Z
UID:10000307-1589652000-1589655600@kingartscomplex.com
SUMMARY:Virtual Concert - 33rd Anniversary Gala
DESCRIPTION:The King Arts Complex presents their first virtual concert featuring The Quan Howell Project. Quan Howell is a national recording artist and native of Columbus\, Ohio. Tune in for fan favorites\, new renditions of classics\, and even a special\, spoken word performance from musical artist\, Tripp Fontane! \nAccess Link: youtu.be/4KG2lxyEx2s\nAlternate Link: kingartscomplex.com/programs/anniversary-gala\n(Video will only be available on or after May 16\, 2020 at 6 PM) \nThe performance was originally scheduled to take place on Saturday\, May 16th during the 33rd Anniversary Gala. Due to the COVID-19 global pandemic\, the Gala was cancelled… However\, the Gala is scheduled to return on Saturday\, May 15\, 2021 and The Quan Howell Project will be the featured act.
URL:https://kingartscomplex.com/event/virtual-concert-33rd-anniversary-gala/
LOCATION:The King Arts Complex\, 835 Mount Vernon Avenue\, Columbus\, OH\, 43203\, United States
ATTACH;FMTTYPE=image/png:https://kingartscomplex.com/wp-content/uploads/2020/05/Screen-Shot-2020-05-14-at-3.32.35-PM.png
ORGANIZER;CN="The King Arts Complex":MAILTO:info@kingartscomplex.com
END:VEVENT
BEGIN:VEVENT
DTSTART;TZID=UTC:20200519T140000
DTEND;TZID=UTC:20200519T150000
DTSTAMP:20260420T160427
CREATED:20200514T233022Z
LAST-MODIFIED:20200519T214741Z
UID:10000308-1589896800-1589900400@kingartscomplex.com
SUMMARY:Ohio Black DIGITAL Dance: Online Class Series
DESCRIPTION:The class series is a regular weekly scheduled virtual dance technique class\, community conversations\, and weekly Social Media posts including educational information\, videos\, and various community engagement activities. \nDigital Dance has a three pillar focus of Culture\, Community\, and Connection. Ohio Black DIGITAL Dance will serve under the King Arts Complex Cultural Arts Department providing educational resources\, continued connection and engagement with our community. \nTo sign up\, go to kingartscomplex.com/ohioblackdance and fill out the form or email Lawrence Lemon at nomellemon@gmail.com with your name\, email\, and phone number. \n(Must download the Zoom app on your smartphone or computer\, or go to Zoom.com on your computer and click “Join”) \nCommunity Conversations and Connections will also be held on Thursdays starting May 21\, 2020 at 2 PM. The information will be shared on The King Arts Complex Facebook page as a status/in the Posts section. Please like our Facebook page if you haven’t already. \nFree and for all ages
URL:https://kingartscomplex.com/event/ohio-black-digital-dance-online-class-series/2020-05-19/
LOCATION:The King Arts Complex\, 835 Mount Vernon Avenue\, Columbus\, OH\, 43203\, United States
ATTACH;FMTTYPE=image/png:https://kingartscomplex.com/wp-content/uploads/2020/05/Screen-Shot-2020-05-14-at-3.32.21-PM.png
ORGANIZER;CN="The King Arts Complex":MAILTO:info@kingartscomplex.com
END:VEVENT
BEGIN:VEVENT
DTSTART;TZID=UTC:20200526T140000
DTEND;TZID=UTC:20200526T150000
DTSTAMP:20260420T160427
CREATED:20200514T233022Z
LAST-MODIFIED:20200519T214741Z
UID:10000309-1590501600-1590505200@kingartscomplex.com
SUMMARY:Ohio Black DIGITAL Dance: Online Class Series
DESCRIPTION:The class series is a regular weekly scheduled virtual dance technique class\, community conversations\, and weekly Social Media posts including educational information\, videos\, and various community engagement activities. \nDigital Dance has a three pillar focus of Culture\, Community\, and Connection. Ohio Black DIGITAL Dance will serve under the King Arts Complex Cultural Arts Department providing educational resources\, continued connection and engagement with our community. \nTo sign up\, go to kingartscomplex.com/ohioblackdance and fill out the form or email Lawrence Lemon at nomellemon@gmail.com with your name\, email\, and phone number. \n(Must download the Zoom app on your smartphone or computer\, or go to Zoom.com on your computer and click “Join”) \nCommunity Conversations and Connections will also be held on Thursdays starting May 21\, 2020 at 2 PM. The information will be shared on The King Arts Complex Facebook page as a status/in the Posts section. Please like our Facebook page if you haven’t already. \nFree and for all ages
URL:https://kingartscomplex.com/event/ohio-black-digital-dance-online-class-series/2020-05-26/
LOCATION:The King Arts Complex\, 835 Mount Vernon Avenue\, Columbus\, OH\, 43203\, United States
ATTACH;FMTTYPE=image/png:https://kingartscomplex.com/wp-content/uploads/2020/05/Screen-Shot-2020-05-14-at-3.32.21-PM.png
ORGANIZER;CN="The King Arts Complex":MAILTO:info@kingartscomplex.com
END:VEVENT
END:VCALENDAR