BEGIN:VCALENDAR
VERSION:2.0
PRODID:-//King Arts Complex - ECPv6.15.20//NONSGML v1.0//EN
CALSCALE:GREGORIAN
METHOD:PUBLISH
X-WR-CALNAME:King Arts Complex
X-ORIGINAL-URL:https://kingartscomplex.com
X-WR-CALDESC:Events for King Arts Complex
REFRESH-INTERVAL;VALUE=DURATION:PT1H
X-Robots-Tag:noindex
X-PUBLISHED-TTL:PT1H
BEGIN:VTIMEZONE
TZID:UTC
BEGIN:STANDARD
TZOFFSETFROM:+0000
TZOFFSETTO:+0000
TZNAME:UTC
DTSTART:20190101T000000
END:STANDARD
END:VTIMEZONE
BEGIN:VEVENT
DTSTART;TZID=UTC:20200401T113000
DTEND;TZID=UTC:20200401T173000
DTSTAMP:20260420T174743
CREATED:20200324T185702Z
LAST-MODIFIED:20200406T005145Z
UID:10000300-1585740600-1585762200@kingartscomplex.com
SUMMARY:Kim Brazwell: Phoenix (Dream Corridor Exhibition) - CANCELLED
DESCRIPTION:The story of the phoenix describes a beautiful bird who is cyclically consumed by fire and then rises from its own ashes. An illustrative rendering of the journey through struggle\, failure\, change\, growth\, progression\, and healing\, Phoenix is a multimedia art collection loosely based on self-portraits by Kimberly Brazwell. The series will be receive its first-ever showing at The King Arts Complex in celebration of Women’s Herstory Month. The series explores the evolution and maturation of trauma\, healing and resilience. \nThe hours for the Dream Corridor are Tuesday through Friday from 8:30 AM – 5:30 PM.
URL:https://kingartscomplex.com/event/kim-brazwell-phoenix-dream-corridor-exhibition-2/2020-04-01/
LOCATION:The King Arts Complex\, 835 Mount Vernon Avenue\, Columbus\, OH\, 43203\, United States
CATEGORIES:Exhibits
ATTACH;FMTTYPE=image/jpeg:https://kingartscomplex.com/wp-content/uploads/2020/02/Kim-Brazwell-Phoenix.jpg
ORGANIZER;CN="The King Arts Complex":MAILTO:info@kingartscomplex.com
END:VEVENT
BEGIN:VEVENT
DTSTART;TZID=UTC:20200402T113000
DTEND;TZID=UTC:20200402T173000
DTSTAMP:20260420T174743
CREATED:20200324T185702Z
LAST-MODIFIED:20200406T005145Z
UID:10000301-1585827000-1585848600@kingartscomplex.com
SUMMARY:Kim Brazwell: Phoenix (Dream Corridor Exhibition) - CANCELLED
DESCRIPTION:The story of the phoenix describes a beautiful bird who is cyclically consumed by fire and then rises from its own ashes. An illustrative rendering of the journey through struggle\, failure\, change\, growth\, progression\, and healing\, Phoenix is a multimedia art collection loosely based on self-portraits by Kimberly Brazwell. The series will be receive its first-ever showing at The King Arts Complex in celebration of Women’s Herstory Month. The series explores the evolution and maturation of trauma\, healing and resilience. \nThe hours for the Dream Corridor are Tuesday through Friday from 8:30 AM – 5:30 PM.
URL:https://kingartscomplex.com/event/kim-brazwell-phoenix-dream-corridor-exhibition-2/2020-04-02/
LOCATION:The King Arts Complex\, 835 Mount Vernon Avenue\, Columbus\, OH\, 43203\, United States
CATEGORIES:Exhibits
ATTACH;FMTTYPE=image/jpeg:https://kingartscomplex.com/wp-content/uploads/2020/02/Kim-Brazwell-Phoenix.jpg
ORGANIZER;CN="The King Arts Complex":MAILTO:info@kingartscomplex.com
END:VEVENT
BEGIN:VEVENT
DTSTART;TZID=UTC:20200403T113000
DTEND;TZID=UTC:20200403T173000
DTSTAMP:20260420T174743
CREATED:20200324T185702Z
LAST-MODIFIED:20200406T005145Z
UID:10000302-1585913400-1585935000@kingartscomplex.com
SUMMARY:Kim Brazwell: Phoenix (Dream Corridor Exhibition) - CANCELLED
DESCRIPTION:The story of the phoenix describes a beautiful bird who is cyclically consumed by fire and then rises from its own ashes. An illustrative rendering of the journey through struggle\, failure\, change\, growth\, progression\, and healing\, Phoenix is a multimedia art collection loosely based on self-portraits by Kimberly Brazwell. The series will be receive its first-ever showing at The King Arts Complex in celebration of Women’s Herstory Month. The series explores the evolution and maturation of trauma\, healing and resilience. \nThe hours for the Dream Corridor are Tuesday through Friday from 8:30 AM – 5:30 PM.
URL:https://kingartscomplex.com/event/kim-brazwell-phoenix-dream-corridor-exhibition-2/2020-04-03/
LOCATION:The King Arts Complex\, 835 Mount Vernon Avenue\, Columbus\, OH\, 43203\, United States
CATEGORIES:Exhibits
ATTACH;FMTTYPE=image/jpeg:https://kingartscomplex.com/wp-content/uploads/2020/02/Kim-Brazwell-Phoenix.jpg
ORGANIZER;CN="The King Arts Complex":MAILTO:info@kingartscomplex.com
END:VEVENT
BEGIN:VEVENT
DTSTART;TZID=UTC:20200407T113000
DTEND;TZID=UTC:20200407T173000
DTSTAMP:20260420T174743
CREATED:20200324T185702Z
LAST-MODIFIED:20200406T005145Z
UID:10000303-1586259000-1586280600@kingartscomplex.com
SUMMARY:Kim Brazwell: Phoenix (Dream Corridor Exhibition) - CANCELLED
DESCRIPTION:The story of the phoenix describes a beautiful bird who is cyclically consumed by fire and then rises from its own ashes. An illustrative rendering of the journey through struggle\, failure\, change\, growth\, progression\, and healing\, Phoenix is a multimedia art collection loosely based on self-portraits by Kimberly Brazwell. The series will be receive its first-ever showing at The King Arts Complex in celebration of Women’s Herstory Month. The series explores the evolution and maturation of trauma\, healing and resilience. \nThe hours for the Dream Corridor are Tuesday through Friday from 8:30 AM – 5:30 PM.
URL:https://kingartscomplex.com/event/kim-brazwell-phoenix-dream-corridor-exhibition-2/2020-04-07/
LOCATION:The King Arts Complex\, 835 Mount Vernon Avenue\, Columbus\, OH\, 43203\, United States
CATEGORIES:Exhibits
ATTACH;FMTTYPE=image/jpeg:https://kingartscomplex.com/wp-content/uploads/2020/02/Kim-Brazwell-Phoenix.jpg
ORGANIZER;CN="The King Arts Complex":MAILTO:info@kingartscomplex.com
END:VEVENT
BEGIN:VEVENT
DTSTART;TZID=UTC:20200408T113000
DTEND;TZID=UTC:20200408T173000
DTSTAMP:20260420T174743
CREATED:20200324T185702Z
LAST-MODIFIED:20200406T005145Z
UID:10000304-1586345400-1586367000@kingartscomplex.com
SUMMARY:Kim Brazwell: Phoenix (Dream Corridor Exhibition) - CANCELLED
DESCRIPTION:The story of the phoenix describes a beautiful bird who is cyclically consumed by fire and then rises from its own ashes. An illustrative rendering of the journey through struggle\, failure\, change\, growth\, progression\, and healing\, Phoenix is a multimedia art collection loosely based on self-portraits by Kimberly Brazwell. The series will be receive its first-ever showing at The King Arts Complex in celebration of Women’s Herstory Month. The series explores the evolution and maturation of trauma\, healing and resilience. \nThe hours for the Dream Corridor are Tuesday through Friday from 8:30 AM – 5:30 PM.
URL:https://kingartscomplex.com/event/kim-brazwell-phoenix-dream-corridor-exhibition-2/2020-04-08/
LOCATION:The King Arts Complex\, 835 Mount Vernon Avenue\, Columbus\, OH\, 43203\, United States
CATEGORIES:Exhibits
ATTACH;FMTTYPE=image/jpeg:https://kingartscomplex.com/wp-content/uploads/2020/02/Kim-Brazwell-Phoenix.jpg
ORGANIZER;CN="The King Arts Complex":MAILTO:info@kingartscomplex.com
END:VEVENT
BEGIN:VEVENT
DTSTART;TZID=UTC:20200409T113000
DTEND;TZID=UTC:20200409T173000
DTSTAMP:20260420T174743
CREATED:20200324T185702Z
LAST-MODIFIED:20200406T005145Z
UID:10000305-1586431800-1586453400@kingartscomplex.com
SUMMARY:Kim Brazwell: Phoenix (Dream Corridor Exhibition) - CANCELLED
DESCRIPTION:The story of the phoenix describes a beautiful bird who is cyclically consumed by fire and then rises from its own ashes. An illustrative rendering of the journey through struggle\, failure\, change\, growth\, progression\, and healing\, Phoenix is a multimedia art collection loosely based on self-portraits by Kimberly Brazwell. The series will be receive its first-ever showing at The King Arts Complex in celebration of Women’s Herstory Month. The series explores the evolution and maturation of trauma\, healing and resilience. \nThe hours for the Dream Corridor are Tuesday through Friday from 8:30 AM – 5:30 PM.
URL:https://kingartscomplex.com/event/kim-brazwell-phoenix-dream-corridor-exhibition-2/2020-04-09/
LOCATION:The King Arts Complex\, 835 Mount Vernon Avenue\, Columbus\, OH\, 43203\, United States
CATEGORIES:Exhibits
ATTACH;FMTTYPE=image/jpeg:https://kingartscomplex.com/wp-content/uploads/2020/02/Kim-Brazwell-Phoenix.jpg
ORGANIZER;CN="The King Arts Complex":MAILTO:info@kingartscomplex.com
END:VEVENT
BEGIN:VEVENT
DTSTART;TZID=UTC:20200410T130000
DTEND;TZID=UTC:20200410T160000
DTSTAMP:20260420T174743
CREATED:20200324T000424Z
LAST-MODIFIED:20200324T213729Z
UID:10000252-1586523600-1586534400@kingartscomplex.com
SUMMARY:35th Annual Lord's Supper Pageant - Tabernacle Baptist Church - CANCELLED
DESCRIPTION:Easter 1985 witnessed the inaugural performance of the Lord’s Supper Pageant. This stirring spirit-filled musical drama portrays the biblical stores of Jesus and reveals the true passion of Christ’s death and resurrection. The pageant is an annual ministry of Tabernacle Baptist Church lead by Pastor Verlin F. Samples\, Jr. For 24 years\, the sanctuary had been transformed into a dramatic worship experience that attracts visitors from all over the United States. In 2011 and 2012\, the drama was celebrated at the Historic Southern Theatre in downtown Columbus\, This year will mark the third consecutive year of the pageant at The King Arts Complex.
URL:https://kingartscomplex.com/event/35th-annual-lords-supper-pageant-tabernacle-baptist-church-cancelled/2020-04-10/
LOCATION:The King Arts Complex\, 835 Mount Vernon Avenue\, Columbus\, OH\, 43203\, United States
ATTACH;FMTTYPE=image/png:https://kingartscomplex.com/wp-content/uploads/2018/03/Untitled-1.png
END:VEVENT
BEGIN:VEVENT
DTSTART;TZID=UTC:20200411T130000
DTEND;TZID=UTC:20200411T160000
DTSTAMP:20260420T174743
CREATED:20200324T000424Z
LAST-MODIFIED:20200324T213729Z
UID:10000253-1586610000-1586620800@kingartscomplex.com
SUMMARY:35th Annual Lord's Supper Pageant - Tabernacle Baptist Church - CANCELLED
DESCRIPTION:Easter 1985 witnessed the inaugural performance of the Lord’s Supper Pageant. This stirring spirit-filled musical drama portrays the biblical stores of Jesus and reveals the true passion of Christ’s death and resurrection. The pageant is an annual ministry of Tabernacle Baptist Church lead by Pastor Verlin F. Samples\, Jr. For 24 years\, the sanctuary had been transformed into a dramatic worship experience that attracts visitors from all over the United States. In 2011 and 2012\, the drama was celebrated at the Historic Southern Theatre in downtown Columbus\, This year will mark the third consecutive year of the pageant at The King Arts Complex.
URL:https://kingartscomplex.com/event/35th-annual-lords-supper-pageant-tabernacle-baptist-church-cancelled/2020-04-11/
LOCATION:The King Arts Complex\, 835 Mount Vernon Avenue\, Columbus\, OH\, 43203\, United States
ATTACH;FMTTYPE=image/png:https://kingartscomplex.com/wp-content/uploads/2018/03/Untitled-1.png
END:VEVENT
BEGIN:VEVENT
DTSTART;TZID=UTC:20200413T090000
DTEND;TZID=UTC:20200413T160000
DTSTAMP:20260420T174743
CREATED:20200324T001006Z
LAST-MODIFIED:20200407T231422Z
UID:10000260-1586768400-1586793600@kingartscomplex.com
SUMMARY:Going Green Spring Academy - CANCELLED
DESCRIPTION:Spring Academy runs throughout the Columbus City Schools spring recess\, April 13th through the 17th from 9 am-4 pm. This year’s theme is “Going Green.” \nSpring is the time for rebirth\, rejuvenation\, and renewal. We’ll serve youth\, ages 5-13 and plan to teach them about gardening and all its benefits. Tentative sessions will include planting and harvesting seeds\, healthy cooking\, science demos\, and the use of recyclable and organic materials to create unique art projects. They will also practice mindfulness\, yoga\, and engage in active dance lessons and more. \nTo register\, click the ticket link above or contact Candice Igeleke at Cigeleke@kingartscomplex.com or 614-645-0627.
URL:https://kingartscomplex.com/event/going-green-spring-academy-cancelled/2020-04-13/
LOCATION:The King Arts Complex\, 835 Mount Vernon Avenue\, Columbus\, OH\, 43203\, United States
CATEGORIES:Academy
ATTACH;FMTTYPE=image/jpeg:https://kingartscomplex.com/wp-content/uploads/2012/03/flower-summer-spring-nature-field-yellow-sunlight.jpg
ORGANIZER;CN="The King Arts Complex":MAILTO:info@kingartscomplex.com
END:VEVENT
BEGIN:VEVENT
DTSTART;TZID=UTC:20200414T090000
DTEND;TZID=UTC:20200414T160000
DTSTAMP:20260420T174743
CREATED:20200324T001006Z
LAST-MODIFIED:20200407T231422Z
UID:10000261-1586854800-1586880000@kingartscomplex.com
SUMMARY:Going Green Spring Academy - CANCELLED
DESCRIPTION:Spring Academy runs throughout the Columbus City Schools spring recess\, April 13th through the 17th from 9 am-4 pm. This year’s theme is “Going Green.” \nSpring is the time for rebirth\, rejuvenation\, and renewal. We’ll serve youth\, ages 5-13 and plan to teach them about gardening and all its benefits. Tentative sessions will include planting and harvesting seeds\, healthy cooking\, science demos\, and the use of recyclable and organic materials to create unique art projects. They will also practice mindfulness\, yoga\, and engage in active dance lessons and more. \nTo register\, click the ticket link above or contact Candice Igeleke at Cigeleke@kingartscomplex.com or 614-645-0627.
URL:https://kingartscomplex.com/event/going-green-spring-academy-cancelled/2020-04-14/
LOCATION:The King Arts Complex\, 835 Mount Vernon Avenue\, Columbus\, OH\, 43203\, United States
CATEGORIES:Academy
ATTACH;FMTTYPE=image/jpeg:https://kingartscomplex.com/wp-content/uploads/2012/03/flower-summer-spring-nature-field-yellow-sunlight.jpg
ORGANIZER;CN="The King Arts Complex":MAILTO:info@kingartscomplex.com
END:VEVENT
BEGIN:VEVENT
DTSTART;TZID=UTC:20200415T090000
DTEND;TZID=UTC:20200415T160000
DTSTAMP:20260420T174743
CREATED:20200324T001006Z
LAST-MODIFIED:20200407T231422Z
UID:10000262-1586941200-1586966400@kingartscomplex.com
SUMMARY:Going Green Spring Academy - CANCELLED
DESCRIPTION:Spring Academy runs throughout the Columbus City Schools spring recess\, April 13th through the 17th from 9 am-4 pm. This year’s theme is “Going Green.” \nSpring is the time for rebirth\, rejuvenation\, and renewal. We’ll serve youth\, ages 5-13 and plan to teach them about gardening and all its benefits. Tentative sessions will include planting and harvesting seeds\, healthy cooking\, science demos\, and the use of recyclable and organic materials to create unique art projects. They will also practice mindfulness\, yoga\, and engage in active dance lessons and more. \nTo register\, click the ticket link above or contact Candice Igeleke at Cigeleke@kingartscomplex.com or 614-645-0627.
URL:https://kingartscomplex.com/event/going-green-spring-academy-cancelled/2020-04-15/
LOCATION:The King Arts Complex\, 835 Mount Vernon Avenue\, Columbus\, OH\, 43203\, United States
CATEGORIES:Academy
ATTACH;FMTTYPE=image/jpeg:https://kingartscomplex.com/wp-content/uploads/2012/03/flower-summer-spring-nature-field-yellow-sunlight.jpg
ORGANIZER;CN="The King Arts Complex":MAILTO:info@kingartscomplex.com
END:VEVENT
BEGIN:VEVENT
DTSTART;TZID=UTC:20200416T090000
DTEND;TZID=UTC:20200416T160000
DTSTAMP:20260420T174743
CREATED:20200324T001006Z
LAST-MODIFIED:20200407T231422Z
UID:10000263-1587027600-1587052800@kingartscomplex.com
SUMMARY:Going Green Spring Academy - CANCELLED
DESCRIPTION:Spring Academy runs throughout the Columbus City Schools spring recess\, April 13th through the 17th from 9 am-4 pm. This year’s theme is “Going Green.” \nSpring is the time for rebirth\, rejuvenation\, and renewal. We’ll serve youth\, ages 5-13 and plan to teach them about gardening and all its benefits. Tentative sessions will include planting and harvesting seeds\, healthy cooking\, science demos\, and the use of recyclable and organic materials to create unique art projects. They will also practice mindfulness\, yoga\, and engage in active dance lessons and more. \nTo register\, click the ticket link above or contact Candice Igeleke at Cigeleke@kingartscomplex.com or 614-645-0627.
URL:https://kingartscomplex.com/event/going-green-spring-academy-cancelled/2020-04-16/
LOCATION:The King Arts Complex\, 835 Mount Vernon Avenue\, Columbus\, OH\, 43203\, United States
CATEGORIES:Academy
ATTACH;FMTTYPE=image/jpeg:https://kingartscomplex.com/wp-content/uploads/2012/03/flower-summer-spring-nature-field-yellow-sunlight.jpg
ORGANIZER;CN="The King Arts Complex":MAILTO:info@kingartscomplex.com
END:VEVENT
BEGIN:VEVENT
DTSTART;TZID=UTC:20200416T110000
DTEND;TZID=UTC:20200416T173000
DTSTAMP:20260420T174743
CREATED:20200324T001956Z
LAST-MODIFIED:20200406T005327Z
UID:10000268-1587034800-1587058200@kingartscomplex.com
SUMMARY:Through Their Eyes - Guest Curator: Tommie Lee Gilliard - CANCELLED
DESCRIPTION:This exhibit is in honor of autism awareness month and is focused to celebrate creatives with “differabilities.’ Guest curator\, Tommie Lee will select work from artists that make art at the Open Door art studio and gallery. \nThis exhibit will be on display from April 16 to May 7\, 2020. \nFree Community Event \nPresented as part Autism Awareness Month
URL:https://kingartscomplex.com/event/through-their-eyes-opening-guest-curator-tommie-lee-gilliard-postponed-until-further-notice/2020-04-16/
LOCATION:The King Arts Complex\, 835 Mount Vernon Avenue\, Columbus\, OH\, 43203\, United States
CATEGORIES:Exhibits
ATTACH;FMTTYPE=image/jpeg:https://kingartscomplex.com/wp-content/uploads/2020/03/Tommi-Lee3_005-1-Copy.jpg
ORGANIZER;CN="The King Arts Complex":MAILTO:info@kingartscomplex.com
END:VEVENT
BEGIN:VEVENT
DTSTART;TZID=UTC:20200416T180000
DTEND;TZID=UTC:20200416T200000
DTSTAMP:20260420T174743
CREATED:20200324T215604Z
LAST-MODIFIED:20200324T215612Z
UID:10000306-1587060000-1587067200@kingartscomplex.com
SUMMARY:Through Their Eyes Opening - Guest Curator: Tommie Lee Gilliard - POSTPONED until further notice
DESCRIPTION:This exhibit is in honor of autism awareness month and is focused to celebrate creatives with “differabilities.’ Guest curator\, Tommie Lee will select work from artists that make art at the Open Door art studio and gallery. \nThis exhibit will be on display from April 16 to May 7\, 2020. \nFree Community Event \nPresented as part Autism Awareness Month
URL:https://kingartscomplex.com/event/through-their-eyes-opening-guest-curator-tommie-lee-gilliard-postponed-until-further-notice-2/
LOCATION:The King Arts Complex\, 835 Mount Vernon Avenue\, Columbus\, OH\, 43203\, United States
CATEGORIES:Exhibits
ATTACH;FMTTYPE=image/jpeg:https://kingartscomplex.com/wp-content/uploads/2020/03/Tommi-Lee3_005-1-Copy.jpg
ORGANIZER;CN="The King Arts Complex":MAILTO:info@kingartscomplex.com
END:VEVENT
BEGIN:VEVENT
DTSTART;TZID=UTC:20200417T090000
DTEND;TZID=UTC:20200417T160000
DTSTAMP:20260420T174743
CREATED:20200324T001006Z
LAST-MODIFIED:20200407T231422Z
UID:10000264-1587114000-1587139200@kingartscomplex.com
SUMMARY:Going Green Spring Academy - CANCELLED
DESCRIPTION:Spring Academy runs throughout the Columbus City Schools spring recess\, April 13th through the 17th from 9 am-4 pm. This year’s theme is “Going Green.” \nSpring is the time for rebirth\, rejuvenation\, and renewal. We’ll serve youth\, ages 5-13 and plan to teach them about gardening and all its benefits. Tentative sessions will include planting and harvesting seeds\, healthy cooking\, science demos\, and the use of recyclable and organic materials to create unique art projects. They will also practice mindfulness\, yoga\, and engage in active dance lessons and more. \nTo register\, click the ticket link above or contact Candice Igeleke at Cigeleke@kingartscomplex.com or 614-645-0627.
URL:https://kingartscomplex.com/event/going-green-spring-academy-cancelled/2020-04-17/
LOCATION:The King Arts Complex\, 835 Mount Vernon Avenue\, Columbus\, OH\, 43203\, United States
CATEGORIES:Academy
ATTACH;FMTTYPE=image/jpeg:https://kingartscomplex.com/wp-content/uploads/2012/03/flower-summer-spring-nature-field-yellow-sunlight.jpg
ORGANIZER;CN="The King Arts Complex":MAILTO:info@kingartscomplex.com
END:VEVENT
BEGIN:VEVENT
DTSTART;TZID=UTC:20200417T110000
DTEND;TZID=UTC:20200417T173000
DTSTAMP:20260420T174743
CREATED:20200324T001956Z
LAST-MODIFIED:20200406T005327Z
UID:10000269-1587121200-1587144600@kingartscomplex.com
SUMMARY:Through Their Eyes - Guest Curator: Tommie Lee Gilliard - CANCELLED
DESCRIPTION:This exhibit is in honor of autism awareness month and is focused to celebrate creatives with “differabilities.’ Guest curator\, Tommie Lee will select work from artists that make art at the Open Door art studio and gallery. \nThis exhibit will be on display from April 16 to May 7\, 2020. \nFree Community Event \nPresented as part Autism Awareness Month
URL:https://kingartscomplex.com/event/through-their-eyes-opening-guest-curator-tommie-lee-gilliard-postponed-until-further-notice/2020-04-17/
LOCATION:The King Arts Complex\, 835 Mount Vernon Avenue\, Columbus\, OH\, 43203\, United States
CATEGORIES:Exhibits
ATTACH;FMTTYPE=image/jpeg:https://kingartscomplex.com/wp-content/uploads/2020/03/Tommi-Lee3_005-1-Copy.jpg
ORGANIZER;CN="The King Arts Complex":MAILTO:info@kingartscomplex.com
END:VEVENT
BEGIN:VEVENT
DTSTART;TZID=UTC:20200421T110000
DTEND;TZID=UTC:20200421T173000
DTSTAMP:20260420T174743
CREATED:20200324T001956Z
LAST-MODIFIED:20200406T005327Z
UID:10000270-1587466800-1587490200@kingartscomplex.com
SUMMARY:Through Their Eyes - Guest Curator: Tommie Lee Gilliard - CANCELLED
DESCRIPTION:This exhibit is in honor of autism awareness month and is focused to celebrate creatives with “differabilities.’ Guest curator\, Tommie Lee will select work from artists that make art at the Open Door art studio and gallery. \nThis exhibit will be on display from April 16 to May 7\, 2020. \nFree Community Event \nPresented as part Autism Awareness Month
URL:https://kingartscomplex.com/event/through-their-eyes-opening-guest-curator-tommie-lee-gilliard-postponed-until-further-notice/2020-04-21/
LOCATION:The King Arts Complex\, 835 Mount Vernon Avenue\, Columbus\, OH\, 43203\, United States
CATEGORIES:Exhibits
ATTACH;FMTTYPE=image/jpeg:https://kingartscomplex.com/wp-content/uploads/2020/03/Tommi-Lee3_005-1-Copy.jpg
ORGANIZER;CN="The King Arts Complex":MAILTO:info@kingartscomplex.com
END:VEVENT
BEGIN:VEVENT
DTSTART;TZID=UTC:20200422T110000
DTEND;TZID=UTC:20200422T173000
DTSTAMP:20260420T174743
CREATED:20200324T001956Z
LAST-MODIFIED:20200406T005327Z
UID:10000271-1587553200-1587576600@kingartscomplex.com
SUMMARY:Through Their Eyes - Guest Curator: Tommie Lee Gilliard - CANCELLED
DESCRIPTION:This exhibit is in honor of autism awareness month and is focused to celebrate creatives with “differabilities.’ Guest curator\, Tommie Lee will select work from artists that make art at the Open Door art studio and gallery. \nThis exhibit will be on display from April 16 to May 7\, 2020. \nFree Community Event \nPresented as part Autism Awareness Month
URL:https://kingartscomplex.com/event/through-their-eyes-opening-guest-curator-tommie-lee-gilliard-postponed-until-further-notice/2020-04-22/
LOCATION:The King Arts Complex\, 835 Mount Vernon Avenue\, Columbus\, OH\, 43203\, United States
CATEGORIES:Exhibits
ATTACH;FMTTYPE=image/jpeg:https://kingartscomplex.com/wp-content/uploads/2020/03/Tommi-Lee3_005-1-Copy.jpg
ORGANIZER;CN="The King Arts Complex":MAILTO:info@kingartscomplex.com
END:VEVENT
BEGIN:VEVENT
DTSTART;TZID=UTC:20200423T110000
DTEND;TZID=UTC:20200423T173000
DTSTAMP:20260420T174743
CREATED:20200324T001956Z
LAST-MODIFIED:20200406T005327Z
UID:10000272-1587639600-1587663000@kingartscomplex.com
SUMMARY:Through Their Eyes - Guest Curator: Tommie Lee Gilliard - CANCELLED
DESCRIPTION:This exhibit is in honor of autism awareness month and is focused to celebrate creatives with “differabilities.’ Guest curator\, Tommie Lee will select work from artists that make art at the Open Door art studio and gallery. \nThis exhibit will be on display from April 16 to May 7\, 2020. \nFree Community Event \nPresented as part Autism Awareness Month
URL:https://kingartscomplex.com/event/through-their-eyes-opening-guest-curator-tommie-lee-gilliard-postponed-until-further-notice/2020-04-23/
LOCATION:The King Arts Complex\, 835 Mount Vernon Avenue\, Columbus\, OH\, 43203\, United States
CATEGORIES:Exhibits
ATTACH;FMTTYPE=image/jpeg:https://kingartscomplex.com/wp-content/uploads/2020/03/Tommi-Lee3_005-1-Copy.jpg
ORGANIZER;CN="The King Arts Complex":MAILTO:info@kingartscomplex.com
END:VEVENT
BEGIN:VEVENT
DTSTART;TZID=UTC:20200424T110000
DTEND;TZID=UTC:20200424T173000
DTSTAMP:20260420T174743
CREATED:20200324T001956Z
LAST-MODIFIED:20200406T005327Z
UID:10000273-1587726000-1587749400@kingartscomplex.com
SUMMARY:Through Their Eyes - Guest Curator: Tommie Lee Gilliard - CANCELLED
DESCRIPTION:This exhibit is in honor of autism awareness month and is focused to celebrate creatives with “differabilities.’ Guest curator\, Tommie Lee will select work from artists that make art at the Open Door art studio and gallery. \nThis exhibit will be on display from April 16 to May 7\, 2020. \nFree Community Event \nPresented as part Autism Awareness Month
URL:https://kingartscomplex.com/event/through-their-eyes-opening-guest-curator-tommie-lee-gilliard-postponed-until-further-notice/2020-04-24/
LOCATION:The King Arts Complex\, 835 Mount Vernon Avenue\, Columbus\, OH\, 43203\, United States
CATEGORIES:Exhibits
ATTACH;FMTTYPE=image/jpeg:https://kingartscomplex.com/wp-content/uploads/2020/03/Tommi-Lee3_005-1-Copy.jpg
ORGANIZER;CN="The King Arts Complex":MAILTO:info@kingartscomplex.com
END:VEVENT
BEGIN:VEVENT
DTSTART;TZID=UTC:20200428T110000
DTEND;TZID=UTC:20200428T173000
DTSTAMP:20260420T174743
CREATED:20200324T001956Z
LAST-MODIFIED:20200406T005327Z
UID:10000274-1588071600-1588095000@kingartscomplex.com
SUMMARY:Through Their Eyes - Guest Curator: Tommie Lee Gilliard - CANCELLED
DESCRIPTION:This exhibit is in honor of autism awareness month and is focused to celebrate creatives with “differabilities.’ Guest curator\, Tommie Lee will select work from artists that make art at the Open Door art studio and gallery. \nThis exhibit will be on display from April 16 to May 7\, 2020. \nFree Community Event \nPresented as part Autism Awareness Month
URL:https://kingartscomplex.com/event/through-their-eyes-opening-guest-curator-tommie-lee-gilliard-postponed-until-further-notice/2020-04-28/
LOCATION:The King Arts Complex\, 835 Mount Vernon Avenue\, Columbus\, OH\, 43203\, United States
CATEGORIES:Exhibits
ATTACH;FMTTYPE=image/jpeg:https://kingartscomplex.com/wp-content/uploads/2020/03/Tommi-Lee3_005-1-Copy.jpg
ORGANIZER;CN="The King Arts Complex":MAILTO:info@kingartscomplex.com
END:VEVENT
BEGIN:VEVENT
DTSTART;TZID=UTC:20200429T110000
DTEND;TZID=UTC:20200429T173000
DTSTAMP:20260420T174743
CREATED:20200324T001956Z
LAST-MODIFIED:20200406T005327Z
UID:10000275-1588158000-1588181400@kingartscomplex.com
SUMMARY:Through Their Eyes - Guest Curator: Tommie Lee Gilliard - CANCELLED
DESCRIPTION:This exhibit is in honor of autism awareness month and is focused to celebrate creatives with “differabilities.’ Guest curator\, Tommie Lee will select work from artists that make art at the Open Door art studio and gallery. \nThis exhibit will be on display from April 16 to May 7\, 2020. \nFree Community Event \nPresented as part Autism Awareness Month
URL:https://kingartscomplex.com/event/through-their-eyes-opening-guest-curator-tommie-lee-gilliard-postponed-until-further-notice/2020-04-29/
LOCATION:The King Arts Complex\, 835 Mount Vernon Avenue\, Columbus\, OH\, 43203\, United States
CATEGORIES:Exhibits
ATTACH;FMTTYPE=image/jpeg:https://kingartscomplex.com/wp-content/uploads/2020/03/Tommi-Lee3_005-1-Copy.jpg
ORGANIZER;CN="The King Arts Complex":MAILTO:info@kingartscomplex.com
END:VEVENT
BEGIN:VEVENT
DTSTART;TZID=UTC:20200430T110000
DTEND;TZID=UTC:20200430T173000
DTSTAMP:20260420T174743
CREATED:20200324T001956Z
LAST-MODIFIED:20200406T005327Z
UID:10000276-1588244400-1588267800@kingartscomplex.com
SUMMARY:Through Their Eyes - Guest Curator: Tommie Lee Gilliard - CANCELLED
DESCRIPTION:This exhibit is in honor of autism awareness month and is focused to celebrate creatives with “differabilities.’ Guest curator\, Tommie Lee will select work from artists that make art at the Open Door art studio and gallery. \nThis exhibit will be on display from April 16 to May 7\, 2020. \nFree Community Event \nPresented as part Autism Awareness Month
URL:https://kingartscomplex.com/event/through-their-eyes-opening-guest-curator-tommie-lee-gilliard-postponed-until-further-notice/2020-04-30/
LOCATION:The King Arts Complex\, 835 Mount Vernon Avenue\, Columbus\, OH\, 43203\, United States
CATEGORIES:Exhibits
ATTACH;FMTTYPE=image/jpeg:https://kingartscomplex.com/wp-content/uploads/2020/03/Tommi-Lee3_005-1-Copy.jpg
ORGANIZER;CN="The King Arts Complex":MAILTO:info@kingartscomplex.com
END:VEVENT
END:VCALENDAR